BEGIN:VCALENDAR
VERSION:2.0
PRODID:-//AIA Dallas - ECPv6.15.11//NONSGML v1.0//EN
CALSCALE:GREGORIAN
METHOD:PUBLISH
X-WR-CALNAME:AIA Dallas
X-ORIGINAL-URL:https://www.aiadallas.org
X-WR-CALDESC:Events for AIA Dallas
REFRESH-INTERVAL;VALUE=DURATION:PT1H
X-Robots-Tag:noindex
X-PUBLISHED-TTL:PT1H
BEGIN:VTIMEZONE
TZID:America/Chicago
BEGIN:DAYLIGHT
TZOFFSETFROM:-0600
TZOFFSETTO:-0500
TZNAME:CDT
DTSTART:20230312T080000
END:DAYLIGHT
BEGIN:STANDARD
TZOFFSETFROM:-0500
TZOFFSETTO:-0600
TZNAME:CST
DTSTART:20231105T070000
END:STANDARD
BEGIN:DAYLIGHT
TZOFFSETFROM:-0600
TZOFFSETTO:-0500
TZNAME:CDT
DTSTART:20240310T080000
END:DAYLIGHT
BEGIN:STANDARD
TZOFFSETFROM:-0500
TZOFFSETTO:-0600
TZNAME:CST
DTSTART:20241103T070000
END:STANDARD
BEGIN:DAYLIGHT
TZOFFSETFROM:-0600
TZOFFSETTO:-0500
TZNAME:CDT
DTSTART:20250309T080000
END:DAYLIGHT
BEGIN:STANDARD
TZOFFSETFROM:-0500
TZOFFSETTO:-0600
TZNAME:CST
DTSTART:20251102T070000
END:STANDARD
END:VTIMEZONE
BEGIN:VEVENT
DTSTART;TZID=America/Chicago:20240822T180000
DTEND;TZID=America/Chicago:20240822T200000
DTSTAMP:20260425T124554
CREATED:20240806T183220Z
LAST-MODIFIED:20240806T183220Z
UID:10000495-1724349600-1724356800@www.aiadallas.org
SUMMARY:LGBTQIA+ Alliance Happy Hour Extravaganza
DESCRIPTION:Summer is still in full swing\, and we’re ready to make the most of it! 🌞 \nYou’re invited to our Happy Hour Extravaganza on Thursday\, August 22nd at 6:00 PM. It’s going to be an evening filled with fun\, laughter\, and of course\, fantastic drinks! \nHere’s what we have lined up for you: \n\nGreat Company: Catch up with colleagues\, friends\, and make new connections in a relaxed and vibrant atmosphere.\nLineup to Finish the Year: We are going to give a rundown of tentative events to finish out the year with\, as well as crowdsource some ideas for the next calendar year.\n\nRSVP:\nNo RSVP required\, come and go as you please! Bring your friends and partners as well! We can’t wait to see you there! Let’s raise a glass and make this summer night one to remember.
URL:https://www.aiadallas.org/event/lgbtqia-alliance-happy-hour-extravaganza/
LOCATION:Alexandre’s\, 4026 Cedar Springs Rd Dallas\, TX 75219
END:VEVENT
END:VCALENDAR