BEGIN:VCALENDAR
VERSION:2.0
PRODID:-//AIA Dallas - ECPv6.15.11//NONSGML v1.0//EN
CALSCALE:GREGORIAN
METHOD:PUBLISH
X-ORIGINAL-URL:https://www.aiadallas.org
X-WR-CALDESC:Events for AIA Dallas
REFRESH-INTERVAL;VALUE=DURATION:PT1H
X-Robots-Tag:noindex
X-PUBLISHED-TTL:PT1H
BEGIN:VTIMEZONE
TZID:America/Chicago
BEGIN:DAYLIGHT
TZOFFSETFROM:-0600
TZOFFSETTO:-0500
TZNAME:CDT
DTSTART:20240310T080000
END:DAYLIGHT
BEGIN:STANDARD
TZOFFSETFROM:-0500
TZOFFSETTO:-0600
TZNAME:CST
DTSTART:20241103T070000
END:STANDARD
BEGIN:DAYLIGHT
TZOFFSETFROM:-0600
TZOFFSETTO:-0500
TZNAME:CDT
DTSTART:20250309T080000
END:DAYLIGHT
BEGIN:STANDARD
TZOFFSETFROM:-0500
TZOFFSETTO:-0600
TZNAME:CST
DTSTART:20251102T070000
END:STANDARD
BEGIN:DAYLIGHT
TZOFFSETFROM:-0600
TZOFFSETTO:-0500
TZNAME:CDT
DTSTART:20260308T080000
END:DAYLIGHT
BEGIN:STANDARD
TZOFFSETFROM:-0500
TZOFFSETTO:-0600
TZNAME:CST
DTSTART:20261101T070000
END:STANDARD
END:VTIMEZONE
BEGIN:VEVENT
DTSTART;TZID=America/Chicago:20250305T173000
DTEND;TZID=America/Chicago:20250305T190000
DTSTAMP:20260421T190207
CREATED:20241209T230359Z
LAST-MODIFIED:20250224T233545Z
UID:10000521-1741195800-1741201200@www.aiadallas.org
SUMMARY:Cross Pollination Happy Hour
DESCRIPTION:Most architects think of community engagement when working on public projects–we will hold meetings with neighborhood leaders and groups\, incorporate feedback from public forums\, and work towards a final design centered on the community. However\, often times\, when the project is done\, the community engagement ends. \nJoin the Latinos in Architecture\, Women in Architecture\, LGBTQIA+ Alliance\, and Emerging Professionals networks for a Happy Hour on Wednesday\, March 5! We will discuss with local community leaders the benefits of ongoing community engagement through business chamber activities\, how to become more involved with our various communities\, and how volunteering can benefit employees and firm culture.
URL:https://www.aiadallas.org/event/cross-pollination/
LOCATION:TX
CATEGORIES:AIA Dallas Events,Committees + Network Events
ATTACH;FMTTYPE=image/jpeg:https://www.aiadallas.org/wp-content/uploads/2024/12/Cross-Pollination-HH-2025_placeholder-featured.jpg
END:VEVENT
END:VCALENDAR