BEGIN:VCALENDAR
VERSION:2.0
PRODID:-//AIA Dallas - ECPv6.15.11//NONSGML v1.0//EN
CALSCALE:GREGORIAN
METHOD:PUBLISH
X-WR-CALNAME:AIA Dallas
X-ORIGINAL-URL:https://www.aiadallas.org
X-WR-CALDESC:Events for AIA Dallas
REFRESH-INTERVAL;VALUE=DURATION:PT1H
X-Robots-Tag:noindex
X-PUBLISHED-TTL:PT1H
BEGIN:VTIMEZONE
TZID:America/Chicago
BEGIN:DAYLIGHT
TZOFFSETFROM:-0600
TZOFFSETTO:-0500
TZNAME:CDT
DTSTART:20240310T080000
END:DAYLIGHT
BEGIN:STANDARD
TZOFFSETFROM:-0500
TZOFFSETTO:-0600
TZNAME:CST
DTSTART:20241103T070000
END:STANDARD
BEGIN:DAYLIGHT
TZOFFSETFROM:-0600
TZOFFSETTO:-0500
TZNAME:CDT
DTSTART:20250309T080000
END:DAYLIGHT
BEGIN:STANDARD
TZOFFSETFROM:-0500
TZOFFSETTO:-0600
TZNAME:CST
DTSTART:20251102T070000
END:STANDARD
BEGIN:DAYLIGHT
TZOFFSETFROM:-0600
TZOFFSETTO:-0500
TZNAME:CDT
DTSTART:20260308T080000
END:DAYLIGHT
BEGIN:STANDARD
TZOFFSETFROM:-0500
TZOFFSETTO:-0600
TZNAME:CST
DTSTART:20261101T070000
END:STANDARD
END:VTIMEZONE
BEGIN:VEVENT
DTSTART;TZID=America/Chicago:20250429T090000
DTEND;TZID=America/Chicago:20250429T103000
DTSTAMP:20260424T204259
CREATED:20250408T135808Z
LAST-MODIFIED:20250418T140600Z
UID:10001049-1745917200-1745922600@www.aiadallas.org
SUMMARY:DallasNow Land Management System Demonstration
DESCRIPTION:The City of Dallas Planning & Development Department is excited to announce the upcoming launch of DallasNow\, a new\, modernized Land Management System\, set to go live on May 5. This system will unify and streamline workflows\, increase transparency\, and enhance the customer experience across all of our planning and zoning\, engineering\, permitting\, and inspection processes. \nAIA Dallas will host a 90-minute demonstration of the new system at the AD EX on Tuesday\, April 29 at 9am. \n  \nThe City of Dallas is changing the way we do Permitting\, Planning\, Zoning\, Inspections & Engineering!\nOn May 5\, 2025\, the City of Dallas Planning & Development department will begin using DallasNow. DallasNow is a new system that will integrate Permitting and other Planning & Development functions into one unified platform. The system will replace the current systems\, including ProjectDox\, and Contractors website. \nDallasNow is a user-friendly system that will streamline processes and provide much more transparency for customers. The online functionality allows for property owners\, contractors and developers to apply\, review and track applications electronically\, thus eliminating the need to visit the Planning & Development offices. Additionally\, all payments can be submitted online and customers will receive real-time notifications that include permits\, inspection statuses\, and itemized fee descriptions. \nDallasNow Benefits include: \n\nCloud-based portal accessible 24/7\nProvides transparency with the ability to apply\, review and track progress electronically\nOnline payments accepted\nReal-time notifications provided that can include digital confirmations\, copy of applications\, permits\, inspection status\, itemized fee descriptions\nAll contacts in record receive notifications\nAbility to access and print documents directly from portal\nView this short video\n\n  \nIMPORTANT DATES \nApril 14 – April 24 \nOak Cliff Municipal Center extended hours from 8:00 a.m. to 6:30 p.m. \nApril 25 at 4 p.m. – May 4 \nCurrent systems not available online or in-person to accept new applications or submit payments.\nOperations limited to: \n\nInspections\nEmergency Releases\nConsultations\n\nTo learn about the roll out of DallasNow\, click here!
URL:https://www.aiadallas.org/event/dallasnow-demonstration/
LOCATION:Architecture and Design Exchange\, 325 N. St. Paul Street\, Suite 150\, Dallas\, TX\, 75201\, United States
CATEGORIES:AIA Dallas Events,Committees + Network Events
ATTACH;FMTTYPE=image/jpeg:https://www.aiadallas.org/wp-content/uploads/2025/04/dallas-city-hall.jpg
END:VEVENT
BEGIN:VEVENT
DTSTART;TZID=America/Chicago:20250429T173000
DTEND;TZID=America/Chicago:20250429T190000
DTSTAMP:20260424T204259
CREATED:20250407T201134Z
LAST-MODIFIED:20250407T210124Z
UID:10001016-1745947800-1745953200@www.aiadallas.org
SUMMARY:Sketch to Success: Watercolor Session 1
DESCRIPTION:Join the AD EX for one or all sessions in this four-part instructional series and learn to sketch and watercolor\, architect-style! \nJoin us for session 1 of our watercolor workshop series! The workshops build on each other\, but you do not need to have attended the previous session(s) to participate. \nAbout the 4-Part Instructional Sketching and Watercolor Series \nDiscover the art of architectural illustration with Michael Lungren at the AD EX! This hands-on series is tailored for individuals of all skill levels and backgrounds. You’ll learn freehand drawing and watercolor techniques in a supportive and encouraging environment. The series starts with two sessions focusing on pen and ink napkin sketches\, followed by two workshops exploring watercolor on pen and ink. \nSupplies are provided and no prior training is necessary. \nAbout the Instructor \nMichael Lungren is partner at Nunzio Marc DeSantis Architects. He has the gift to visualize his clients’ architectural intent and transform it into a mood-provoking artistic representation. \nUpcoming session \nMay 27 (Watercolor) \n5:30 – 7:00 PM at the AD EX \nJoin us for one session or all four! While the workshops build upon each other\, previous attendance is not required. Unleash your creativity and refine your sketching skills with us! \nPricing \n$20 per session // $35 for 2 sessions \nAdmission includes workshop materials and self-parking at the AD EX.
URL:https://www.aiadallas.org/event/sketch-to-success-watercolor-session-1/
LOCATION:Architecture and Design Exchange\, 325 N. St. Paul Street\, Suite 150\, Dallas\, TX\, 75201\, United States
CATEGORIES:AD EX Events,Partner Events
ATTACH;FMTTYPE=image/jpeg:https://www.aiadallas.org/wp-content/uploads/2025/04/IMG_9971_edited-scaled.jpg
END:VEVENT
END:VCALENDAR