BEGIN:VCALENDAR
VERSION:2.0
PRODID:-//AIA Dallas - ECPv6.15.11//NONSGML v1.0//EN
CALSCALE:GREGORIAN
METHOD:PUBLISH
X-ORIGINAL-URL:https://www.aiadallas.org
X-WR-CALDESC:Events for AIA Dallas
REFRESH-INTERVAL;VALUE=DURATION:PT1H
X-Robots-Tag:noindex
X-PUBLISHED-TTL:PT1H
BEGIN:VTIMEZONE
TZID:America/Chicago
BEGIN:DAYLIGHT
TZOFFSETFROM:-0600
TZOFFSETTO:-0500
TZNAME:CDT
DTSTART:20240310T080000
END:DAYLIGHT
BEGIN:STANDARD
TZOFFSETFROM:-0500
TZOFFSETTO:-0600
TZNAME:CST
DTSTART:20241103T070000
END:STANDARD
BEGIN:DAYLIGHT
TZOFFSETFROM:-0600
TZOFFSETTO:-0500
TZNAME:CDT
DTSTART:20250309T080000
END:DAYLIGHT
BEGIN:STANDARD
TZOFFSETFROM:-0500
TZOFFSETTO:-0600
TZNAME:CST
DTSTART:20251102T070000
END:STANDARD
BEGIN:DAYLIGHT
TZOFFSETFROM:-0600
TZOFFSETTO:-0500
TZNAME:CDT
DTSTART:20260308T080000
END:DAYLIGHT
BEGIN:STANDARD
TZOFFSETFROM:-0500
TZOFFSETTO:-0600
TZNAME:CST
DTSTART:20261101T070000
END:STANDARD
END:VTIMEZONE
BEGIN:VEVENT
DTSTART;TZID=America/Chicago:20250521T120000
DTEND;TZID=America/Chicago:20250521T130000
DTSTAMP:20260424T193313
CREATED:20241204T224217Z
LAST-MODIFIED:20250106T152142Z
UID:10000779-1747828800-1747832400@www.aiadallas.org
SUMMARY:Urban Design Committee Meeting
DESCRIPTION:
URL:https://www.aiadallas.org/event/urban-design-committee-meeting-3/2025-05-21/
LOCATION:Architecture and Design Exchange\, 325 N. St. Paul Street\, Suite 150\, Dallas\, TX\, 75201\, United States
CATEGORIES:Committees + Network Events
END:VEVENT
BEGIN:VEVENT
DTSTART;TZID=America/Chicago:20250521T173000
DTEND;TZID=America/Chicago:20250521T190000
DTSTAMP:20260424T193313
CREATED:20250408T211356Z
LAST-MODIFIED:20250519T162629Z
UID:10001050-1747848600-1747854000@www.aiadallas.org
SUMMARY:Unlocking the Stress Cycle: A Pathway to Resilience & Equity
DESCRIPTION:Sponsored by Root Engineering Services\nWednesday\, May 21\, 5:30 – 7:00 PM\nAD EX\, 325 N. St. Paul Street\, Suite 150\nFREE\, In Person Event\n \nMay is Mental Health Awareness Month. Join the Women in Architecture Network for Unlocking the Stress Cycle: A Pathway to Resilience & Equity\, sponsored by Root Engineering Services. HKS’ Erin Peavey and Ashli Pettigrew will deliver a compelling keynote on burnout\, exploring why women are uniquely affected and offering science-based strategies to recognize and complete the stress cycle. \nManage your stress with interactive yoga and drawing exercises. Plus\, ten lucky raffle winners will take home the book Burnout: The Secret to Unlocking the Stress Cycle. \nComplimentary self-parking will be provided for this event. Please use the first garage entrance labeled “Tenant Parking” on St. Paul Street. Drinks and appetizers will also be provided. \n  \nAGENDA \n5:30 – 6:00 PM: Networking\n6:00 – 7:00 PM: Presentation\, discussion\, and interactive wellness exercises \nAn interactive session where Erin Peavey and Ashli Pettigrew lead us in a conversation on Burnout & Balance – Strategies for Women Navigating Work and Life\, weaving in dynamic Interactive Exercises and a Book Giveaway\, to leave you feeling connected\, refreshed\, and replenished with tangible steps and closer bonds to take into your day-to-day.
URL:https://www.aiadallas.org/event/unlocking-the-stress-cycle-a-pathway-to-resilience-equity/
LOCATION:TX
CATEGORIES:Committees + Network Events
ATTACH;FMTTYPE=image/png:https://www.aiadallas.org/wp-content/uploads/2025/04/Copy-of-Landscape-Graphic-FBLIEmail-18.png
END:VEVENT
END:VCALENDAR