BEGIN:VCALENDAR
VERSION:2.0
PRODID:-//AIA Dallas - ECPv6.15.11//NONSGML v1.0//EN
CALSCALE:GREGORIAN
METHOD:PUBLISH
X-WR-CALNAME:AIA Dallas
X-ORIGINAL-URL:https://www.aiadallas.org
X-WR-CALDESC:Events for AIA Dallas
REFRESH-INTERVAL;VALUE=DURATION:PT1H
X-Robots-Tag:noindex
X-PUBLISHED-TTL:PT1H
BEGIN:VTIMEZONE
TZID:America/Chicago
BEGIN:DAYLIGHT
TZOFFSETFROM:-0600
TZOFFSETTO:-0500
TZNAME:CDT
DTSTART:20240310T080000
END:DAYLIGHT
BEGIN:STANDARD
TZOFFSETFROM:-0500
TZOFFSETTO:-0600
TZNAME:CST
DTSTART:20241103T070000
END:STANDARD
BEGIN:DAYLIGHT
TZOFFSETFROM:-0600
TZOFFSETTO:-0500
TZNAME:CDT
DTSTART:20250309T080000
END:DAYLIGHT
BEGIN:STANDARD
TZOFFSETFROM:-0500
TZOFFSETTO:-0600
TZNAME:CST
DTSTART:20251102T070000
END:STANDARD
BEGIN:DAYLIGHT
TZOFFSETFROM:-0600
TZOFFSETTO:-0500
TZNAME:CDT
DTSTART:20260308T080000
END:DAYLIGHT
BEGIN:STANDARD
TZOFFSETFROM:-0500
TZOFFSETTO:-0600
TZNAME:CST
DTSTART:20261101T070000
END:STANDARD
END:VTIMEZONE
BEGIN:VEVENT
DTSTART;TZID=America/Chicago:20250920T100000
DTEND;TZID=America/Chicago:20250920T120000
DTSTAMP:20260425T095954
CREATED:20240213T201518Z
LAST-MODIFIED:20251114T161139Z
UID:10000594-1758362400-1758369600@www.aiadallas.org
SUMMARY:Discover the Arts District Walking Tour
DESCRIPTION:
URL:https://www.aiadallas.org/event/discover-the-arts-district-walking-tour-2/2025-09-20/
LOCATION:TX
CATEGORIES:AD EX Events,Partner Events
END:VEVENT
BEGIN:VEVENT
DTSTART;TZID=America/Chicago:20250920T103000
DTEND;TZID=America/Chicago:20250920T123000
DTSTAMP:20260425T095954
CREATED:20250902T214849Z
LAST-MODIFIED:20250902T215002Z
UID:10001112-1758364200-1758371400@www.aiadallas.org
SUMMARY:Build Your City! at Finch Park in McKinney
DESCRIPTION:Join AD EX in Finch Park to experience architecture hands-on and “Build Your City” from the ground up at the Love McKinney Event. You’ll be given your own plot of “land” to build on. What kind of building will you design and create? What materials will you use? How does it fit into your neighborhood? As you construct buildings\, parks\, and bridges\, you’ll learn how a city comes together and what makes them great. \nThis free come and go activity is fun for all ages. Stay for a minute or a while!
URL:https://www.aiadallas.org/event/build-your-city-at-finch-park-in-mckinney/
LOCATION:Finch Park\, 301 Standifer Street\, McKinney\, TX\, 75069
CATEGORIES:AD EX Events,Partner Events
ATTACH;FMTTYPE=image/jpeg:https://www.aiadallas.org/wp-content/uploads/2025/09/Build-Your-City-Masonry-1.jpg
END:VEVENT
END:VCALENDAR