BEGIN:VCALENDAR
VERSION:2.0
PRODID:-//AIA Dallas - ECPv6.15.11//NONSGML v1.0//EN
CALSCALE:GREGORIAN
METHOD:PUBLISH
X-ORIGINAL-URL:https://www.aiadallas.org
X-WR-CALDESC:Events for AIA Dallas
REFRESH-INTERVAL;VALUE=DURATION:PT1H
X-Robots-Tag:noindex
X-PUBLISHED-TTL:PT1H
BEGIN:VTIMEZONE
TZID:America/Chicago
BEGIN:DAYLIGHT
TZOFFSETFROM:-0600
TZOFFSETTO:-0500
TZNAME:CDT
DTSTART:20250309T080000
END:DAYLIGHT
BEGIN:STANDARD
TZOFFSETFROM:-0500
TZOFFSETTO:-0600
TZNAME:CST
DTSTART:20251102T070000
END:STANDARD
BEGIN:DAYLIGHT
TZOFFSETFROM:-0600
TZOFFSETTO:-0500
TZNAME:CDT
DTSTART:20260308T080000
END:DAYLIGHT
BEGIN:STANDARD
TZOFFSETFROM:-0500
TZOFFSETTO:-0600
TZNAME:CST
DTSTART:20261101T070000
END:STANDARD
BEGIN:DAYLIGHT
TZOFFSETFROM:-0600
TZOFFSETTO:-0500
TZNAME:CDT
DTSTART:20270314T080000
END:DAYLIGHT
BEGIN:STANDARD
TZOFFSETFROM:-0500
TZOFFSETTO:-0600
TZNAME:CST
DTSTART:20271107T070000
END:STANDARD
END:VTIMEZONE
BEGIN:VEVENT
DTSTART;TZID=America/Chicago:20260305T180000
DTEND;TZID=America/Chicago:20260305T193000
DTSTAMP:20260425T161149
CREATED:20260107T234940Z
LAST-MODIFIED:20260305T191051Z
UID:10001439-1772733600-1772739000@www.aiadallas.org
SUMMARY:Missing Middle Housing: Thinking Big and Building Small to Respond to the Housing Crisis
DESCRIPTION:About this Event \nJoin the Dallas Housing Coalition for an enlightening presentation by Daniel Parolek\, urban designer\, architect\, and author of Missing Middle Housing: Thinking Big and Building Small to Respond to Today’s Housing Crisis. Parolek will break down the housing challenges facing communities nationwide and introduce the concept of Missing Middle Housing—what it is\, why it matters\, and how it can help create walkable\, attainable\, and community-centered neighborhoods. Attendees will learn practical steps for enabling these housing types through planning and zoning reforms\, along with real-world examples from cities and developers from across the country that have successfully put these ideas into action at the building to regional scales with thoughtful design\, planning\, and zoning reform. \n\nSchedule \n5:00 PM – 6:00 PM: Check-in & Networking Reception\n6:00 PM – 7:00 PM: Missing Middle Housing Presentation by Daniel Parolek\n7:00 PM – 7:30 PM: Audience Q&A \n\nAbout This Presentation \nThis presentation by Daniel Parolek\, urban designer\, architect\, and author of Missing Middle Housing: Thinking Big and Building Small to Respond to Today’s Housing Crisis\, will break down the housing challenges facing communities nationwide and introduce the concept of Missing Middle Housing – what it is\, why it matters\, and how it can help create walkable\, attainable\, and community-centered neighborhoods. Attendees will learn practical steps for enabling these housing types through planning and zoning reforms\, along with real-world examples from cities and developers from across the country that have successfully put these ideas into action at the building to regional scales with thoughtful design\, planning\, and zoning reform. \nLearning Objectives: \n\nParticipants will discuss the current state of missing middle housing across the country: What is being built and by whom\, and what is still “missing.”\nParticipants will learn techniques for effectively creating policy\, plans\, and zoning for these types in infill and greenfield applications.\nParticipants will explore how residential and commercial building codes apply to these types and how they are limiting the delivery\, and changes that are being made to remove this barrier.\nParticipants will discuss how AARP and Opticos Design are advocating for these housing choices for age-friendly living through their technical advisory work across the country.\n\n1.5 LU | HSW
URL:https://www.aiadallas.org/event/missing-middle-housing-thinking-big-and-building-small-to-respond-to-the-housing-crisis/
LOCATION:Latino Cultural Center\, 2600 Live Oak Street\, Dallas\, TX\, 75204\, United States
CATEGORIES:Partner Events
END:VEVENT
END:VCALENDAR