BEGIN:VCALENDAR
VERSION:2.0
PRODID:-//AIA Dallas - ECPv6.15.11//NONSGML v1.0//EN
CALSCALE:GREGORIAN
METHOD:PUBLISH
X-WR-CALNAME:AIA Dallas
X-ORIGINAL-URL:https://www.aiadallas.org
X-WR-CALDESC:Events for AIA Dallas
REFRESH-INTERVAL;VALUE=DURATION:PT1H
X-Robots-Tag:noindex
X-PUBLISHED-TTL:PT1H
BEGIN:VTIMEZONE
TZID:America/Chicago
BEGIN:DAYLIGHT
TZOFFSETFROM:-0600
TZOFFSETTO:-0500
TZNAME:CDT
DTSTART:20230312T080000
END:DAYLIGHT
BEGIN:STANDARD
TZOFFSETFROM:-0500
TZOFFSETTO:-0600
TZNAME:CST
DTSTART:20231105T070000
END:STANDARD
BEGIN:DAYLIGHT
TZOFFSETFROM:-0600
TZOFFSETTO:-0500
TZNAME:CDT
DTSTART:20240310T080000
END:DAYLIGHT
BEGIN:STANDARD
TZOFFSETFROM:-0500
TZOFFSETTO:-0600
TZNAME:CST
DTSTART:20241103T070000
END:STANDARD
BEGIN:DAYLIGHT
TZOFFSETFROM:-0600
TZOFFSETTO:-0500
TZNAME:CDT
DTSTART:20250309T080000
END:DAYLIGHT
BEGIN:STANDARD
TZOFFSETFROM:-0500
TZOFFSETTO:-0600
TZNAME:CST
DTSTART:20251102T070000
END:STANDARD
END:VTIMEZONE
BEGIN:VEVENT
DTSTART;TZID=America/Chicago:20240201T173000
DTEND;TZID=America/Chicago:20240201T190000
DTSTAMP:20260423T100644
CREATED:20240108T232659Z
LAST-MODIFIED:20240130T152820Z
UID:10000019-1706808600-1706814000@www.aiadallas.org
SUMMARY:Emerging Leaders Program Orientation + Reception
DESCRIPTION:The Orientation is exclusively for those who have been accepted into the 2024 Class of ELP. The reception is for the 2024 Class\, their firm sponsors\, and all ELP Alumni.
URL:https://www.aiadallas.org/event/emerging-leaders-reception/
CATEGORIES:AIA Dallas Events,Leadership Programs
ATTACH;FMTTYPE=image/jpeg:https://www.aiadallas.org/wp-content/uploads/2024/01/2018-ELP-Alumni-Session_feature.jpg
END:VEVENT
BEGIN:VEVENT
DTSTART;TZID=America/Chicago:20240213T083000
DTEND;TZID=America/Chicago:20240213T100000
DTSTAMP:20260423T100644
CREATED:20240131T224423Z
LAST-MODIFIED:20240212T155625Z
UID:10000020-1707813000-1707818400@www.aiadallas.org
SUMMARY:Coffee & Conversation: Dallas Bike Plan
DESCRIPTION:The City of Dallas is reimagining how all of its residents and visitors move around the city in the future. Creating safe streets for pedestrians\, motorists\, and bike and scooter riders is a top priority! Please join AIA Dallas as we learn more about the planned updates to Dallas’ Bike Master Plan and hear from mobility experts on Tuesday\, February 13 at 8:30AM. Our panelists include: \n\nJessica Scott and Kathryn Rush from the Dallas Dept. of Transportation\nBekah Kornblum from Dallas Bicycle Coalition\nPhilip Hiatt Haigh from The Loop\n\nThis is a hybrid event.  Attend in-person at AD EX or virtually via Zoom.  Register to receive the Zoom link.
URL:https://www.aiadallas.org/event/coffee-conversation-2/
LOCATION:Architecture and Design Exchange\, 325 N. St. Paul Street\, Suite 150\, Dallas\, TX\, 75201\, United States
CATEGORIES:AIA Dallas Events
ATTACH;FMTTYPE=image/png:https://www.aiadallas.org/wp-content/uploads/2024/01/CC_2024.png
END:VEVENT
BEGIN:VEVENT
DTSTART;TZID=America/Chicago:20240214T113000
DTEND;TZID=America/Chicago:20240214T130000
DTSTAMP:20260423T100644
CREATED:20240108T233116Z
LAST-MODIFIED:20240517T154140Z
UID:10000025-1707910200-1707915600@www.aiadallas.org
SUMMARY:AIA | TEXO Industry Roundtable
DESCRIPTION:Building Resilience: Navigating Mental Health Challenges in AEC Industry\n1.0 LU requested \nJoin us for a crucial roundtable discussion delving into the realm of mental health in the AEC industry. As professionals committed to shaping the future of architecture\, engineering\, and construction\, it’s time to break the silence surrounding mental health challenges. \nExplore innovative strategies\, concepts\, and technologies that can redefine your daily life\, both professionally and personally. Our primary objective is to dismantle the stigma attached to mental health in the AEC sector. By fostering an open dialogue\, we aim to create an environment that encourages support\, understanding\, and growth. \nIn this discussion\, we’ll shed light on the resources available and showcase the real impact of mental health challenges in the AEC industry. Awareness is the first step toward positive change\, and together\, we can contribute to a healthier\, more resilient industry. \nDon’t miss this opportunity to be part of a transformative conversation that has the power to shape the future of mental well-being in AEC. Join us and take a step toward building a more supportive and compassionate professional community. \nThis is an in-person event with lunch served. \nPRIMARY LEARNING OBJECTIVES \n1. Understanding and Addressing the Crisis:\nThis is foundational\, as addressing issues such as suicide rates and their interconnectedness with divorce rates sets the tone for acknowledging and dealing with the severity of mental health challenges. \n2. Recognizing Signs and Fostering Support:\nIdentifying signs of mental health challenges is crucial\, and discussing the role of individuals and organization in recognizing and addressing these signs is fundamental for creating a supportive environment. \n3. Providing Resources for Support:\nEquipping participants with practical resources and support services ensures they have tangible tools to take away. This goal contributes directly to empowering individuals and organizations to take proactive steps. \n4. Breaking the Stigma:\nExplore the cultural nuances within architecture and construction to understand stigmas and openness surrounding mental health. Discuss strategies to promote a culture of openness and communication\, especially addressing challenges related to “machoism” or “manly” attitudes in the construction sector. \n5. Combatting Substance Abuse:\nExamine the prevalent issue of substance abuse\, particularly focusing on drinking within the AEC industry\, and discuss proactive measures and interventions to address and mitigate its impact on mental health \nRegister Today
URL:https://www.aiadallas.org/event/aia-texo-industry-roundtable/
LOCATION:Architecture and Design Exchange\, 325 N. St. Paul Street\, Suite 150\, Dallas\, TX\, 75201\, United States
CATEGORIES:AIA Dallas Events
ATTACH;FMTTYPE=image/jpeg:https://www.aiadallas.org/wp-content/uploads/2024/01/AIATEXO_Ind-Roundtable_16-9-scaled.jpg
END:VEVENT
BEGIN:VEVENT
DTSTART;TZID=America/Chicago:20240221T180000
DTEND;TZID=America/Chicago:20240221T193000
DTSTAMP:20260423T100644
CREATED:20240110T204032Z
LAST-MODIFIED:20240221T171537Z
UID:10000274-1708538400-1708543800@www.aiadallas.org
SUMMARY:ESG & Architecture: Connecting Project Performance to Capital Markets
DESCRIPTION:1.0 HSW requested \nEnvironmental\, social\, and corporate governance (ESG) initiatives have grown to have a significant impact on the investment community that provides funding and insurance for both private and public development. However\, a clear strategy that links global corporate sustainability targets and the daily decision-making that shapes individual architectural projects remains opaque. What are the key drivers in ESG reports that currently are or will impact new developments and existing assets? This session will help practitioners unpack ESG and understand those connections and how they relate to progress in sustainability writ large. \nThe evening will begin with happy hour and networking. \nThis event is part of the AIA Dallas Professional Development Series\, presented by Existing Conditions.
URL:https://www.aiadallas.org/event/professional-development-series-esg/
LOCATION:Architecture and Design Exchange\, 325 N. St. Paul Street\, Suite 150\, Dallas\, TX\, 75201\, United States
CATEGORIES:AIA Dallas Events,Architecture Matters
ATTACH;FMTTYPE=image/jpeg:https://www.aiadallas.org/wp-content/uploads/2024/01/esg_draft.jpg
END:VEVENT
END:VCALENDAR