BEGIN:VCALENDAR
VERSION:2.0
PRODID:-//AIA Dallas - ECPv6.15.11//NONSGML v1.0//EN
CALSCALE:GREGORIAN
METHOD:PUBLISH
X-ORIGINAL-URL:https://www.aiadallas.org
X-WR-CALDESC:Events for AIA Dallas
REFRESH-INTERVAL;VALUE=DURATION:PT1H
X-Robots-Tag:noindex
X-PUBLISHED-TTL:PT1H
BEGIN:VTIMEZONE
TZID:America/Chicago
BEGIN:DAYLIGHT
TZOFFSETFROM:-0600
TZOFFSETTO:-0500
TZNAME:CDT
DTSTART:20240310T080000
END:DAYLIGHT
BEGIN:STANDARD
TZOFFSETFROM:-0500
TZOFFSETTO:-0600
TZNAME:CST
DTSTART:20241103T070000
END:STANDARD
BEGIN:DAYLIGHT
TZOFFSETFROM:-0600
TZOFFSETTO:-0500
TZNAME:CDT
DTSTART:20250309T080000
END:DAYLIGHT
BEGIN:STANDARD
TZOFFSETFROM:-0500
TZOFFSETTO:-0600
TZNAME:CST
DTSTART:20251102T070000
END:STANDARD
BEGIN:DAYLIGHT
TZOFFSETFROM:-0600
TZOFFSETTO:-0500
TZNAME:CDT
DTSTART:20260308T080000
END:DAYLIGHT
BEGIN:STANDARD
TZOFFSETFROM:-0500
TZOFFSETTO:-0600
TZNAME:CST
DTSTART:20261101T070000
END:STANDARD
END:VTIMEZONE
BEGIN:VEVENT
DTSTART;TZID=America/Chicago:20250609T180000
DTEND;TZID=America/Chicago:20250609T200000
DTSTAMP:20260422T094802
CREATED:20250415T205940Z
LAST-MODIFIED:20250606T160724Z
UID:10001051-1749492000-1749499200@www.aiadallas.org
SUMMARY:Architecture on Tap: Navigating the Path to Fellowship
DESCRIPTION:Presented by Blackson Brick\, Hosted by the Fellowship Network.  \nNavigating the Path to Fellowship: Insights from the AIA Dallas Fellowship Network\nThis engaging conversation will explore the AIA Fellowship process\, guided by the AIA Dallas Fellowship Network. Participants will gain valuable insights into the nomination and application procedures\, understand the criteria for elevation\, and learn how to effectively document their professional achievements. Through discussions with current Fellows and mentors\, attendees will discover strategies to enhance their contributions to the profession and society\, aligning with the standards of excellence recognized by the AIA College of Fellows. This session is ideal for architects aspiring to achieve Fellowship status and those interested in mentoring future candidates. \nLearning Objectives:  \n\nExplore the eligibility requirements and nomination process for AIA Fellowship\, including the role of the AIA Dallas Fellowship Network in supporting candidates.\nIdentify personal and professional accomplishments that align with the AIA Fellowship criteria\, emphasizing contributions to architecture and society.\nUnderstand the significance of mentorship and peer support in the Fellowship journey and how to engage with the Fellowship Network for guidance.\nReflect on a personal strategic plan to document and present one’s work effectively\, enhancing the quality of their Fellowship application.\n\n1.0 LU \n  \nArchitecture on Tap is free for AIA Dallas and Allied Members. $30 for General Admission. Grab a beer\, make a friend\, and learn something new!
URL:https://www.aiadallas.org/event/architecture-on-tap-0625/
LOCATION:Craft & Growler\, 3601 Parry Ave\, Dallas\, TX\, 75226\, United States
CATEGORIES:AIA Dallas Events,Architecture Matters
END:VEVENT
BEGIN:VEVENT
DTSTART;TZID=America/Chicago:20250610T083000
DTEND;TZID=America/Chicago:20250610T100000
DTSTAMP:20260422T094802
CREATED:20250509T153439Z
LAST-MODIFIED:20250520T174639Z
UID:10001066-1749544200-1749549600@www.aiadallas.org
SUMMARY:Coffee + Conversation with City Manager\, Kimberly Bizor Tolbert
DESCRIPTION:
URL:https://www.aiadallas.org/event/coffee-conversation-with-city-manager-kimberley-bizor-tolbert/
LOCATION:Architecture and Design Exchange\, 325 N. St. Paul Street\, Suite 150\, Dallas\, TX\, 75201\, United States
CATEGORIES:AIA Dallas Events,Committees + Network Events
ATTACH;FMTTYPE=image/png:https://www.aiadallas.org/wp-content/uploads/2024/01/CC_2024.png
END:VEVENT
BEGIN:VEVENT
DTSTART;TZID=America/Chicago:20250611T080000
DTEND;TZID=America/Chicago:20250611T160000
DTSTAMP:20260422T094802
CREATED:20250527T185134Z
LAST-MODIFIED:20250530T150521Z
UID:10001070-1749628800-1749657600@www.aiadallas.org
SUMMARY:From An Architect's Bookshelf 2025
DESCRIPTION:HELP INSPIRE THE ARCHITECTS AND DESIGNERS OF TOMORROW! \nBring your book donations to the AD EX or pick up an empty box to fill up at your firm. Donations will be distributed to local high school students to inspire the architects and designers of tomorrow!\nDonations can include books about architecture\, interior design\, engineering\, art\, and construction. New or gently used supplies such as scales\, T-squares\, tracing paper are welcome! Magazines will NOT be accepted.\nFeel free to write a personal\, motivational message on the inside front cover of a donated book and encourage students to explore our profession as a career path! Students will not only a sense of inspiration but a connection to our professionals in Dallas.\nBooks may be dropped off at the AD EX during open hours or by appointment from June 11th through August 12th. In addition\, many local firms will also serve as collection points. \nContact us if your firm would like to be one of the collection points! liacommittee@gmail.com \nAD EX HOURS\nAD EX is open to the public from 10:00 a.m. to 6:00 p.m. Tuesday through Thursday and from 10:00 a.m. to 3:00 p.m. on Fridays.
URL:https://www.aiadallas.org/event/from-an-architects-bookshelf-2025/2025-06-11/
LOCATION:Architecture and Design Exchange\, 325 N. St. Paul Street\, Suite 150\, Dallas\, TX\, 75201\, United States
CATEGORIES:AIA Dallas Events,Committees + Network Events
ATTACH;FMTTYPE=image/png:https://www.aiadallas.org/wp-content/uploads/2024/06/Artboard-116.png
END:VEVENT
BEGIN:VEVENT
DTSTART;TZID=America/Chicago:20250612T180000
DTEND;TZID=America/Chicago:20250612T193000
DTSTAMP:20260422T094802
CREATED:20250124T191639Z
LAST-MODIFIED:20250609T172844Z
UID:10000955-1749751200-1749756600@www.aiadallas.org
SUMMARY:Kaleidoscope Series: Advocacy and Architecture
DESCRIPTION:Architects are advocates\, whether we realize that or not. Every day we advocate for our clients by working with contractors and consultants to ensure their projects are successful. We have also become more environmentally conscious\, advocating for zero-carbon buildings\, more resilient cities\, and equitable communities. \nHowever\, when it comes to advocacy\, we are often the last ones we\, and often firm leadership\, consider. We are tasked with ensuring the health\, safety\, and welfare of the public we serve. Yet we often overlook our own. \nJoin us for a panel discussion with queer architects centered on how we can advocate for LGBTQIA+ professionals and others. We will discuss advocacy within and outside of architecture\, how to advocate for change as architects in a time when the queer community faces an increasingly hostile political environment and share resources available through AIA and other organizations.
URL:https://www.aiadallas.org/event/kaleidoscope-panel-2/
LOCATION:TX
CATEGORIES:AIA Dallas Events,Committees + Network Events
ATTACH;FMTTYPE=image/jpeg:https://www.aiadallas.org/wp-content/uploads/2024/03/Kaleidoscope-Series_logo_cropped.jpg
END:VEVENT
BEGIN:VEVENT
DTSTART;TZID=America/Chicago:20250616T180000
DTEND;TZID=America/Chicago:20250616T200000
DTSTAMP:20260422T094802
CREATED:20250311T145623Z
LAST-MODIFIED:20251007T181925Z
UID:10000998-1750096800-1750104000@www.aiadallas.org
SUMMARY:3rd Annual Set the Stage Competition Winner Announcement
DESCRIPTION:In support of community involvement and encouraging education\, we are asking designers of all backgrounds to submit standing backdrop designs for story time at the Oak Lawn Branch Dallas Library. Help immerse young minds in the creative\, playful atmosphere that surrounds story time engagement. \nSubmission Theme: S.M.A.R.T. (Science\, Math\, Art\, Reading\, and Technology) View the competition details here >> \nJoin us at the AD EX on Monday\, June 16 for the 3rd Annual Set the Stage Competition Winner Announcement!
URL:https://www.aiadallas.org/event/3rd-annual-set-the-stage-competition-announcement/
LOCATION:TX
CATEGORIES:AIA Dallas Events,Awards + Competitions,Committees + Network Events
ATTACH;FMTTYPE=image/png:https://www.aiadallas.org/wp-content/uploads/2024/01/Set-the-Stage_logo-recreated.png
END:VEVENT
BEGIN:VEVENT
DTSTART;TZID=America/Chicago:20250620T120000
DTEND;TZID=America/Chicago:20250620T133000
DTSTAMP:20260422T094802
CREATED:20241209T230103Z
LAST-MODIFIED:20251007T181940Z
UID:10000558-1750420800-1750426200@www.aiadallas.org
SUMMARY:2025 KRob Awards Announcement Live Broadcast
DESCRIPTION:CLICK HERE TO STREAM THE LIVE BROADCAST >>\n  \nThe Ken Roberts Memorial Delineation Competition (KRob)  has celebrated the best in architectural delineation for 51 years. A Dallas classic that has received international recognition\, KRob honors hand and digital delineation by professionals and students throughout the world. Averaging over 300 entries from 25 countries in the past several years\, the competition’s visibility continues to grow. \nThe Ken Roberts Memorial Delineation Competition is the most senior architectural drawing competition currently in operation anywhere in the world. \nJoin us for our KRob Awards Announcement Live Broadcast of the 2025 winning entries! Our jurors will present each winning entry\, providing insight into why each winner was chosen\, with a panel discussion moderated by Josh Nason\, Dean of the Hammons School of Architecture at Drury University. A link to stream the live broadcast will be emailed to all attendees as we get closer to the event. \nAn exhibition of the entries will be held at the AD EX with an in-person opening gallery reception on July 14. In addition to the live broadcast\, exhibition\, and exhibition gallery reception\, sponsors receive exposure through the call for entries and all competition promotion. Past media partnerships include Architect and The Architect’s Newspaper.
URL:https://www.aiadallas.org/event/ken-roberts-memorial-delineation-competition-announcement/
LOCATION:Virtual
CATEGORIES:AIA Dallas Events,Awards + Competitions,Committees + Network Events
END:VEVENT
BEGIN:VEVENT
DTSTART;TZID=America/Chicago:20250625T173000
DTEND;TZID=America/Chicago:20250625T190000
DTSTAMP:20260422T094802
CREATED:20250603T195701Z
LAST-MODIFIED:20250619T151050Z
UID:10001079-1750872600-1750878000@www.aiadallas.org
SUMMARY:Stirring Up Connections | WiA Mocktail Mixer
DESCRIPTION:
URL:https://www.aiadallas.org/event/stirring-up-connections-wia-mocktail-mixer/
LOCATION:TX
CATEGORIES:AIA Dallas Events,Committees + Network Events
END:VEVENT
BEGIN:VEVENT
DTSTART;TZID=America/Chicago:20250626T170000
DTEND;TZID=America/Chicago:20250626T190000
DTSTAMP:20260422T094802
CREATED:20250602T213732Z
LAST-MODIFIED:20250602T214336Z
UID:10001078-1750957200-1750964400@www.aiadallas.org
SUMMARY:Appetite for Architecture
DESCRIPTION:The culinary and architectural worlds converge at Cenzo’s Pizza and Deli in this thoughtfully restored neighborhood gem\, where historic preservation and design come together to create a vibrant dining experience. \nAppetite for Architecture 2025 continues. Cenzo’s Pizza and Deli is a 1933 former gas station transformed by DSGN Associates into a lively pizzeria and community hub in Oak Cliff’s Winnetka Heights. Celebrate this award-winning example of adaptive reuse with a special evening featuring a behind-the-scenes look at the restoration\, followed by happy hour with hors d’oeuvres and drinks. \nCapacity is extremely limited\, so secure your spot today! \nTickets:\n$35 General Admission \nProceeds benefit the Architecture and Design Foundation that works to foster access to architecture and design for all.
URL:https://www.aiadallas.org/event/appetite-for-architecture/
LOCATION:TX
CATEGORIES:AD EX Events,AIA Dallas Events,Partner Events
ATTACH;FMTTYPE=image/jpeg:https://www.aiadallas.org/wp-content/uploads/2025/06/5.jpeg
END:VEVENT
BEGIN:VEVENT
DTSTART;TZID=America/Chicago:20250626T173000
DTEND;TZID=America/Chicago:20250626T183000
DTSTAMP:20260422T094802
CREATED:20250516T175514Z
LAST-MODIFIED:20250613T171706Z
UID:10001068-1750959000-1750962600@www.aiadallas.org
SUMMARY:Bark + Build Team Captain’s Meeting
DESCRIPTION:
URL:https://www.aiadallas.org/event/bark-build-team-captains-meeting-2/
LOCATION:TX
CATEGORIES:AIA Dallas Events
ATTACH;FMTTYPE=image/jpeg:https://www.aiadallas.org/wp-content/uploads/2024/01/bark-build_thumbnail.jpg
END:VEVENT
END:VCALENDAR