BEGIN:VCALENDAR
VERSION:2.0
PRODID:-//AIA Dallas - ECPv6.15.11//NONSGML v1.0//EN
CALSCALE:GREGORIAN
METHOD:PUBLISH
X-WR-CALNAME:AIA Dallas
X-ORIGINAL-URL:https://www.aiadallas.org
X-WR-CALDESC:Events for AIA Dallas
REFRESH-INTERVAL;VALUE=DURATION:PT1H
X-Robots-Tag:noindex
X-PUBLISHED-TTL:PT1H
BEGIN:VTIMEZONE
TZID:America/Chicago
BEGIN:DAYLIGHT
TZOFFSETFROM:-0600
TZOFFSETTO:-0500
TZNAME:CDT
DTSTART:20230312T080000
END:DAYLIGHT
BEGIN:STANDARD
TZOFFSETFROM:-0500
TZOFFSETTO:-0600
TZNAME:CST
DTSTART:20231105T070000
END:STANDARD
BEGIN:DAYLIGHT
TZOFFSETFROM:-0600
TZOFFSETTO:-0500
TZNAME:CDT
DTSTART:20240310T080000
END:DAYLIGHT
BEGIN:STANDARD
TZOFFSETFROM:-0500
TZOFFSETTO:-0600
TZNAME:CST
DTSTART:20241103T070000
END:STANDARD
BEGIN:DAYLIGHT
TZOFFSETFROM:-0600
TZOFFSETTO:-0500
TZNAME:CDT
DTSTART:20250309T080000
END:DAYLIGHT
BEGIN:STANDARD
TZOFFSETFROM:-0500
TZOFFSETTO:-0600
TZNAME:CST
DTSTART:20251102T070000
END:STANDARD
END:VTIMEZONE
BEGIN:VEVENT
DTSTART;TZID=America/Chicago:20240506T180000
DTEND;TZID=America/Chicago:20240506T200000
DTSTAMP:20260419T121019
CREATED:20240110T203112Z
LAST-MODIFIED:20240430T165917Z
UID:10000270-1715018400-1715025600@www.aiadallas.org
SUMMARY:Architecture on Tap: Community Growth Through Development and Advocacy
DESCRIPTION:AIA Dallas welcomes you to the next Architecture on Tap! Hosted by the Latinos in Architecture Network\, this panel will discuss “Community Growth Through Development and Advocacy”. Panelists include a local developer and city official as they discuss placemaking\, collaborative strategies\, and best practices for development and redevelopment of Dallas neighborhoods. In addition\, this discussion will tackle citizen strategies to inform development across Dallas by volunteering on committees\, attending town hall meetings\, and getting to know district council members. \nLearning Objectives: \n\nParticipants will learn about micro and macro development trends in general and trends specific to Dallas\, Texas.\nParticipants will learn different approaches to community-based development and redevelopment.\nParticipants will learn about different approaches to collaboration between developers\, architects\, general contractors\, and city officials.\nParticipants will learn how to be informed citizens and advocate for their community’s needs.\n\n  \n1.0 LU
URL:https://www.aiadallas.org/event/architecture-on-tap-05062024/
LOCATION:Craft & Growler\, 3601 Parry Ave\, Dallas\, TX\, 75226\, United States
CATEGORIES:AIA Dallas Events,Architecture Matters
END:VEVENT
END:VCALENDAR