BEGIN:VCALENDAR
VERSION:2.0
PRODID:-//AIA Dallas - ECPv6.15.11//NONSGML v1.0//EN
CALSCALE:GREGORIAN
METHOD:PUBLISH
X-WR-CALNAME:AIA Dallas
X-ORIGINAL-URL:https://www.aiadallas.org
X-WR-CALDESC:Events for AIA Dallas
REFRESH-INTERVAL;VALUE=DURATION:PT1H
X-Robots-Tag:noindex
X-PUBLISHED-TTL:PT1H
BEGIN:VTIMEZONE
TZID:America/Chicago
BEGIN:DAYLIGHT
TZOFFSETFROM:-0600
TZOFFSETTO:-0500
TZNAME:CDT
DTSTART:20240310T080000
END:DAYLIGHT
BEGIN:STANDARD
TZOFFSETFROM:-0500
TZOFFSETTO:-0600
TZNAME:CST
DTSTART:20241103T070000
END:STANDARD
BEGIN:DAYLIGHT
TZOFFSETFROM:-0600
TZOFFSETTO:-0500
TZNAME:CDT
DTSTART:20250309T080000
END:DAYLIGHT
BEGIN:STANDARD
TZOFFSETFROM:-0500
TZOFFSETTO:-0600
TZNAME:CST
DTSTART:20251102T070000
END:STANDARD
BEGIN:DAYLIGHT
TZOFFSETFROM:-0600
TZOFFSETTO:-0500
TZNAME:CDT
DTSTART:20260308T080000
END:DAYLIGHT
BEGIN:STANDARD
TZOFFSETFROM:-0500
TZOFFSETTO:-0600
TZNAME:CST
DTSTART:20261101T070000
END:STANDARD
END:VTIMEZONE
BEGIN:VEVENT
DTSTART;TZID=America/Chicago:20250822T080000
DTEND;TZID=America/Chicago:20250822T170000
DTSTAMP:20260421T202812
CREATED:20241209T230048Z
LAST-MODIFIED:20251007T182009Z
UID:10000562-1755849600-1755882000@www.aiadallas.org
SUMMARY:EMPOWERING Conference 2025
DESCRIPTION:AIA Dallas is proud to present the Ninth Annual EMPOWERING Conference—a dynamic collaboration between our Women in Architecture\, Latinos in Architecture\, and Emerging Professionals Networks. Guided by our mission to transform the world around us\, this conference is dedicated to equipping attendees with essential tools and knowledge to drive positive change through Design\, Practice\, and Leadership. We invite you to engage with our outstanding lineup of speakers\, each a trailblazer making a meaningful impact in our communities.
URL:https://www.aiadallas.org/event/empowering-conference-2025/
LOCATION:Pegasus Park\, 3000 Pegasus Park Drive\, Dallas\, TX\, 75247
CATEGORIES:AIA Dallas Events,Committees + Network Events
ATTACH;FMTTYPE=image/png:https://www.aiadallas.org/wp-content/uploads/2024/12/EMPOWERING_2025-web-feature.png
END:VEVENT
END:VCALENDAR