BEGIN:VCALENDAR
VERSION:2.0
PRODID:-//AIA Dallas - ECPv6.15.11//NONSGML v1.0//EN
CALSCALE:GREGORIAN
METHOD:PUBLISH
X-ORIGINAL-URL:https://www.aiadallas.org
X-WR-CALDESC:Events for AIA Dallas
REFRESH-INTERVAL;VALUE=DURATION:PT1H
X-Robots-Tag:noindex
X-PUBLISHED-TTL:PT1H
BEGIN:VTIMEZONE
TZID:America/Chicago
BEGIN:DAYLIGHT
TZOFFSETFROM:-0600
TZOFFSETTO:-0500
TZNAME:CDT
DTSTART:20250309T080000
END:DAYLIGHT
BEGIN:STANDARD
TZOFFSETFROM:-0500
TZOFFSETTO:-0600
TZNAME:CST
DTSTART:20251102T070000
END:STANDARD
BEGIN:DAYLIGHT
TZOFFSETFROM:-0600
TZOFFSETTO:-0500
TZNAME:CDT
DTSTART:20260308T080000
END:DAYLIGHT
BEGIN:STANDARD
TZOFFSETFROM:-0500
TZOFFSETTO:-0600
TZNAME:CST
DTSTART:20261101T070000
END:STANDARD
BEGIN:DAYLIGHT
TZOFFSETFROM:-0600
TZOFFSETTO:-0500
TZNAME:CDT
DTSTART:20270314T080000
END:DAYLIGHT
BEGIN:STANDARD
TZOFFSETFROM:-0500
TZOFFSETTO:-0600
TZNAME:CST
DTSTART:20271107T070000
END:STANDARD
END:VTIMEZONE
BEGIN:VEVENT
DTSTART;TZID=America/Chicago:20260901T100000
DTEND;TZID=America/Chicago:20260901T183000
DTSTAMP:20260421T165957
CREATED:20251117T203559Z
LAST-MODIFIED:20260420T215940Z
UID:10001197-1788256800-1788287400@www.aiadallas.org
SUMMARY:11th Annual Sporting Clay Classic
DESCRIPTION:AIA Dallas and the Latinos in Architecture Network invite you to \nThe 11th Annual Sporting Clay Classic\, at Elm Fork Shooting Sports. \nProceeds from this event will fund the Latinos in Architecture Scholarship\, which supports and encourages economically disadvantaged graduating seniors of Hispanic descent who are pursuing a higher education or a career in architecture or design. \n  \n 
URL:https://www.aiadallas.org/event/11th-annual-sporting-clay-classic/
LOCATION:Elm Fork Shooting Sports\, 10751 Luna Rd\, Dallas\, TX\, 76220
CATEGORIES:AIA Dallas Events,Committees + Network Events
ATTACH;FMTTYPE=image/jpeg:https://www.aiadallas.org/wp-content/uploads/2025/11/lia_clay-1-scaled.jpg
END:VEVENT
END:VCALENDAR