BEGIN:VCALENDAR
VERSION:2.0
PRODID:-//AIA Dallas - ECPv6.15.11//NONSGML v1.0//EN
CALSCALE:GREGORIAN
METHOD:PUBLISH
X-WR-CALNAME:AIA Dallas
X-ORIGINAL-URL:https://www.aiadallas.org
X-WR-CALDESC:Events for AIA Dallas
REFRESH-INTERVAL;VALUE=DURATION:PT1H
X-Robots-Tag:noindex
X-PUBLISHED-TTL:PT1H
BEGIN:VTIMEZONE
TZID:America/Chicago
BEGIN:DAYLIGHT
TZOFFSETFROM:-0600
TZOFFSETTO:-0500
TZNAME:CDT
DTSTART:20240310T080000
END:DAYLIGHT
BEGIN:STANDARD
TZOFFSETFROM:-0500
TZOFFSETTO:-0600
TZNAME:CST
DTSTART:20241103T070000
END:STANDARD
BEGIN:DAYLIGHT
TZOFFSETFROM:-0600
TZOFFSETTO:-0500
TZNAME:CDT
DTSTART:20250309T080000
END:DAYLIGHT
BEGIN:STANDARD
TZOFFSETFROM:-0500
TZOFFSETTO:-0600
TZNAME:CST
DTSTART:20251102T070000
END:STANDARD
BEGIN:DAYLIGHT
TZOFFSETFROM:-0600
TZOFFSETTO:-0500
TZNAME:CDT
DTSTART:20260308T080000
END:DAYLIGHT
BEGIN:STANDARD
TZOFFSETFROM:-0500
TZOFFSETTO:-0600
TZNAME:CST
DTSTART:20261101T070000
END:STANDARD
END:VTIMEZONE
BEGIN:VEVENT
DTSTART;TZID=America/Chicago:20250327T173000
DTEND;TZID=America/Chicago:20250327T190000
DTSTAMP:20260425T082902
CREATED:20250228T150913Z
LAST-MODIFIED:20250228T153012Z
UID:10000986-1743096600-1743102000@www.aiadallas.org
SUMMARY:Sketch to Success
DESCRIPTION:Join us for session 2 of our napkin sketching workshop series! The workshops build on each other\, but you do not need to have attended the previous session(s) to participate. \nAbout the 4-Part Instructional Sketching and Watercolor Series\nDiscover the art of architectural illustration with Michael Lungren at the AD EX! This hands-on series is tailored for individuals of all skill levels and backgrounds. You’ll learn freehand drawing and watercolor techniques in a supportive and encouraging environment. The series starts with two sessions focusing on pen and ink napkin sketches\, followed by two workshops exploring watercolor on pen and ink. \nSupplies are provided and no prior training is necessary. \nAbout the Instructor:\nMichael Lungren is vice president at Nunzio Marc DeSantis Architects. He has the gift to visualize his clients’ architectural intent and transform it into a mood-provoking artistic representation. \nUpcoming sessions:\n\nTuesday: April 29 (Watercolor)\, 5:30 – 7:00 PM at the AD EX\nTuesday: May 27 (Watercolor)\, 5:30 – 7:00 PM at the AD EX\n\nJoin us for one session or all four! While the workshops build upon each other\, previous attendance is not required. Unleash your creativity and refine your sketching skills with us! \nPricing:\n$20 per session // $35 for 2 sessions \nAdmission includes workshop materials and self-parking at the AD EX.
URL:https://www.aiadallas.org/event/sketch-to-success-6/
LOCATION:Architecture and Design Exchange\, 325 N. St. Paul Street\, Suite 150\, Dallas\, TX\, 75201\, United States
CATEGORIES:AD EX Events,Partner Events
ATTACH;FMTTYPE=image/jpeg:https://www.aiadallas.org/wp-content/uploads/2025/02/Artboard-1.jpg
END:VEVENT
BEGIN:VEVENT
DTSTART;TZID=America/Chicago:20250327T190000
DTEND;TZID=America/Chicago:20250327T203000
DTSTAMP:20260425T082902
CREATED:20250317T205619Z
LAST-MODIFIED:20250317T205642Z
UID:10001004-1743102000-1743107400@www.aiadallas.org
SUMMARY:Home Heat Money God: Texas and Modern Architecture Panel Discussion
DESCRIPTION:Presented by the Dallas Architecture Forum \nBen Koush in conversation with Amy Walton\nThursday\, March 27\, 2025\, 7:00 PM \nAngelika Film Center\, Mockingbird Station\nFree and Open to the Public\nAIA CES Credit Available \nIn the mid-twentieth century\, dramatic social and political change coincided with the ascendance and evolution of architectural modernism in Texas. Between the 1930s and 1980s\, a state known for cowboys and cotton fields rapidly urbanized and became a hub of global trade and a heavyweight in national politics. Relentless ambition and a strong sense of place combined to make Texans particularly receptive to modern architecture’s implication of newness\, forward-looking attitude\, and capacity to reinterpret historical forms in novel ways. As money and people poured in\, architects and their clients used modern buildings to define themselves and the state. \nIllustrated with stunning photographs by architect Ben Koush\, Home\, Heat\, Money\, God analyzes buildings in big cities and small towns by world-famous architects\, Texas titans\, and lesser-known designers. Architectural historian Kathryn O’Rourke describes the forces that influenced architects as they addressed basic needs—such as staying cool in a warming climate and living in up-to-date housing—and responded to a culture where houses of faith were valued\, by the countervailing pressures of pluralism and homogenization\, and by the sense of Texan exceptionalism. And one of the major goals of the book was to tell as many stories as possible incorporating different building types in small towns and big cities\, examining the diversity\, breadth\, and the multiplicity of Texas architecture. Amy Walton\, founder of modTEXAS\, will join Ben Koush in a lively conversation about the book and its captivating topics.
URL:https://www.aiadallas.org/event/home-heat-money-god-texas-and-modern-architecture-panel-discussion/
LOCATION:Angelika Film Center\, 5321 E Mockingbird Ln\, Ste 230\, Dallas\, TX\, 75206
CATEGORIES:Partner Events
ATTACH;FMTTYPE=image/jpeg:https://www.aiadallas.org/wp-content/uploads/2025/03/Home-Heat-Money-God-4.jpg
END:VEVENT
END:VCALENDAR