BEGIN:VCALENDAR
VERSION:2.0
PRODID:-//AIA Dallas - ECPv6.15.11//NONSGML v1.0//EN
CALSCALE:GREGORIAN
METHOD:PUBLISH
X-WR-CALNAME:AIA Dallas
X-ORIGINAL-URL:https://www.aiadallas.org
X-WR-CALDESC:Events for AIA Dallas
REFRESH-INTERVAL;VALUE=DURATION:PT1H
X-Robots-Tag:noindex
X-PUBLISHED-TTL:PT1H
BEGIN:VTIMEZONE
TZID:America/Chicago
BEGIN:DAYLIGHT
TZOFFSETFROM:-0600
TZOFFSETTO:-0500
TZNAME:CDT
DTSTART:20240310T080000
END:DAYLIGHT
BEGIN:STANDARD
TZOFFSETFROM:-0500
TZOFFSETTO:-0600
TZNAME:CST
DTSTART:20241103T070000
END:STANDARD
BEGIN:DAYLIGHT
TZOFFSETFROM:-0600
TZOFFSETTO:-0500
TZNAME:CDT
DTSTART:20250309T080000
END:DAYLIGHT
BEGIN:STANDARD
TZOFFSETFROM:-0500
TZOFFSETTO:-0600
TZNAME:CST
DTSTART:20251102T070000
END:STANDARD
BEGIN:DAYLIGHT
TZOFFSETFROM:-0600
TZOFFSETTO:-0500
TZNAME:CDT
DTSTART:20260308T080000
END:DAYLIGHT
BEGIN:STANDARD
TZOFFSETFROM:-0500
TZOFFSETTO:-0600
TZNAME:CST
DTSTART:20261101T070000
END:STANDARD
END:VTIMEZONE
BEGIN:VEVENT
DTSTART;TZID=America/Chicago:20251004T100000
DTEND;TZID=America/Chicago:20251004T120000
DTSTAMP:20260420T052537
CREATED:20240213T201445Z
LAST-MODIFIED:20251114T161128Z
UID:10000608-1759572000-1759579200@www.aiadallas.org
SUMMARY:Discover the Arts District Walking Tour
DESCRIPTION:
URL:https://www.aiadallas.org/event/discover-the-arts-district-walking-tour/2025-10-04/
LOCATION:TX
CATEGORIES:AD EX Events,Partner Events
END:VEVENT
BEGIN:VEVENT
DTSTART;TZID=America/Chicago:20251008T190000
DTEND;TZID=America/Chicago:20251008T203000
DTSTAMP:20260420T052537
CREATED:20250904T154937Z
LAST-MODIFIED:20250904T154937Z
UID:10001115-1759950000-1759955400@www.aiadallas.org
SUMMARY:Dallas Architecture Forum Lecture: Rosanna Hu & Lyndon Neri
DESCRIPTION:
URL:https://www.aiadallas.org/event/dallas-architecture-forum-lecture-rosanna-hu-lyndon-neri/
LOCATION:Angelika Film Center\, 5321 E Mockingbird Ln\, Ste 230\, Dallas\, TX\, 75206
CATEGORIES:Partner Events
END:VEVENT
BEGIN:VEVENT
DTSTART;TZID=America/Chicago:20251011T100000
DTEND;TZID=America/Chicago:20251011T113000
DTSTAMP:20260420T052537
CREATED:20240213T201303Z
LAST-MODIFIED:20251114T161033Z
UID:10000622-1760176800-1760182200@www.aiadallas.org
SUMMARY:Main Street Architecture Walking Tour
DESCRIPTION:
URL:https://www.aiadallas.org/event/main-street-architecture-walking-tour/2025-10-11/
LOCATION:TX
CATEGORIES:AD EX Events,Partner Events
END:VEVENT
BEGIN:VEVENT
DTSTART;TZID=America/Chicago:20251015T173000
DTEND;TZID=America/Chicago:20251015T190000
DTSTAMP:20260420T052537
CREATED:20250909T204621Z
LAST-MODIFIED:20250909T204713Z
UID:10001124-1760549400-1760554800@www.aiadallas.org
SUMMARY:Travel Fellowship Presentation & Gallery Reception
DESCRIPTION:Join AD EX to hear from 2024 Swank Traveling Fellow Kael Fineout\, who will share discoveries from his travels in Italy. \nKael explores the historic plastering technique scagliola\, a hallmark of Baroque and Rococo architecture. During his intensive study in Italy\, he investigated its materials\, techniques\, and applications—from altars and columns to decorative wall panels—capturing both its artistic beauty and technical complexity. His project seeks to preserve this nearly lost craft through an open-source guide\, combining historical background\, step-by-step instructions\, and high-quality photographs to make the knowledge widely accessible.
URL:https://www.aiadallas.org/event/travel-fellowship-presentation-gallery-reception/
LOCATION:Architecture and Design Exchange\, 325 N. St. Paul Street\, Suite 150\, Dallas\, TX\, 75201\, United States
CATEGORIES:AD EX Events,Partner Events
ATTACH;FMTTYPE=image/jpeg:https://www.aiadallas.org/wp-content/uploads/2025/09/Image-1.jpg
END:VEVENT
BEGIN:VEVENT
DTSTART;TZID=America/Chicago:20251018T100000
DTEND;TZID=America/Chicago:20251018T120000
DTSTAMP:20260420T052537
CREATED:20240213T201518Z
LAST-MODIFIED:20251114T161139Z
UID:10000595-1760781600-1760788800@www.aiadallas.org
SUMMARY:Discover the Arts District Walking Tour
DESCRIPTION:
URL:https://www.aiadallas.org/event/discover-the-arts-district-walking-tour-2/2025-10-18/
LOCATION:TX
CATEGORIES:AD EX Events,Partner Events
END:VEVENT
BEGIN:VEVENT
DTSTART;TZID=America/Chicago:20251022T190000
DTEND;TZID=America/Chicago:20251022T203000
DTSTAMP:20260420T052537
CREATED:20250904T155027Z
LAST-MODIFIED:20251022T213903Z
UID:10001116-1761159600-1761165000@www.aiadallas.org
SUMMARY:Dallas Architecture Forum Lecture: Christine Ten Eyck
DESCRIPTION:
URL:https://www.aiadallas.org/event/dallas-architecture-forum-lecture-christine-ten-eyck/
LOCATION:Angelika Film Center\, 5321 E Mockingbird Ln\, Ste 230\, Dallas\, TX\, 75206
CATEGORIES:Partner Events
END:VEVENT
BEGIN:VEVENT
DTSTART;TZID=America/Chicago:20251025T100000
DTEND;TZID=America/Chicago:20251025T113000
DTSTAMP:20260420T052537
CREATED:20240213T201345Z
LAST-MODIFIED:20251114T161052Z
UID:10000634-1761386400-1761391800@www.aiadallas.org
SUMMARY:Main Street Architecture Walking Tour
DESCRIPTION:
URL:https://www.aiadallas.org/event/main-street-architecture-walking-tour-2/2025-10-25/
LOCATION:TX
CATEGORIES:AD EX Events,Partner Events
END:VEVENT
BEGIN:VEVENT
DTSTART;VALUE=DATE:20251028
DTEND;VALUE=DATE:20251030
DTSTAMP:20260420T052537
CREATED:20250902T224549Z
LAST-MODIFIED:20251022T143611Z
UID:10001113-1761609600-1761782399@www.aiadallas.org
SUMMARY:URBAN MORPHOSIS: Reimagining Cities through Adaptation
DESCRIPTION:2025 Regional & Urban Design Knowledge Community (RUDC) Symposium\n$245 (full registration); $95 (students); $25 / tour (a la carte) \nThe RUDC Symposium is a packed\, fast-paced two-day event. Day 1 is a series of speakers addressing our 2025 theme: URBAN MORPHOSIS: Reimagining Cities through Adaptation. Day 2 builds on the discussions from Day 1 with a series of morning tours for attendees to select based on their interests\, followed by an afternoon of speakers focused on Dallas-specific urban design challenges and solutions. \nCities are reinventing themselves in real time. Post-pandemic work patterns\, generative AI economies\, accelerating climate disaster impact events\, and a nationwide affordability crisis are disrupting and\, at the same time\, opening new pathways to a more resilient urban future. The 2025 RUDC Symposium asks: What design\, policy\, and financial innovations can turn today’s volatility and challenges in cities into a durable and sustainable urban form for the future? \n​Up to 11 continuing education credits (AIA / ASLA / AICP) available across both days of programming. Continuing education credits are under review and approval is pending.
URL:https://www.aiadallas.org/event/urban-morphosis-reimagining-cities-through-adaptation/
LOCATION:Architecture and Design Exchange\, 325 N. St. Paul Street\, Suite 150\, Dallas\, TX\, 75201\, United States
CATEGORIES:AIA Dallas Events,Partner Events
ATTACH;FMTTYPE=image/jpeg:https://www.aiadallas.org/wp-content/uploads/2025/09/2025-RUDC-Symposium-Graphic_OPEN_wide_low-res.jpg
END:VEVENT
BEGIN:VEVENT
DTSTART;VALUE=DATE:20251030
DTEND;VALUE=DATE:20251102
DTSTAMP:20260420T052537
CREATED:20241111T220550Z
LAST-MODIFIED:20251022T144444Z
UID:10000585-1761782400-1762041599@www.aiadallas.org
SUMMARY:TxA 86th Annual Conference + Design Expo
DESCRIPTION:
URL:https://www.aiadallas.org/event/txa-86th-annual-conference-design-expo/
LOCATION:TX
CATEGORIES:Partner Events
END:VEVENT
END:VCALENDAR