BEGIN:VCALENDAR
VERSION:2.0
PRODID:-//AIA Dallas - ECPv6.15.11//NONSGML v1.0//EN
CALSCALE:GREGORIAN
METHOD:PUBLISH
X-ORIGINAL-URL:https://www.aiadallas.org
X-WR-CALDESC:Events for AIA Dallas
REFRESH-INTERVAL;VALUE=DURATION:PT1H
X-Robots-Tag:noindex
X-PUBLISHED-TTL:PT1H
BEGIN:VTIMEZONE
TZID:America/Chicago
BEGIN:DAYLIGHT
TZOFFSETFROM:-0600
TZOFFSETTO:-0500
TZNAME:CDT
DTSTART:20250309T080000
END:DAYLIGHT
BEGIN:STANDARD
TZOFFSETFROM:-0500
TZOFFSETTO:-0600
TZNAME:CST
DTSTART:20251102T070000
END:STANDARD
BEGIN:DAYLIGHT
TZOFFSETFROM:-0600
TZOFFSETTO:-0500
TZNAME:CDT
DTSTART:20260308T080000
END:DAYLIGHT
BEGIN:STANDARD
TZOFFSETFROM:-0500
TZOFFSETTO:-0600
TZNAME:CST
DTSTART:20261101T070000
END:STANDARD
BEGIN:DAYLIGHT
TZOFFSETFROM:-0600
TZOFFSETTO:-0500
TZNAME:CDT
DTSTART:20270314T080000
END:DAYLIGHT
BEGIN:STANDARD
TZOFFSETFROM:-0500
TZOFFSETTO:-0600
TZNAME:CST
DTSTART:20271107T070000
END:STANDARD
END:VTIMEZONE
BEGIN:VEVENT
DTSTART;TZID=America/Chicago:20260103T100000
DTEND;TZID=America/Chicago:20260103T120000
DTSTAMP:20260423T002244
CREATED:20240213T201445Z
LAST-MODIFIED:20251114T161128Z
UID:10001172-1767434400-1767441600@www.aiadallas.org
SUMMARY:Discover the Arts District Walking Tour
DESCRIPTION:
URL:https://www.aiadallas.org/event/discover-the-arts-district-walking-tour/2026-01-03/
CATEGORIES:AD EX Events,Partner Events
END:VEVENT
BEGIN:VEVENT
DTSTART;TZID=America/Chicago:20260110T100000
DTEND;TZID=America/Chicago:20260110T113000
DTSTAMP:20260423T002244
CREATED:20240213T201303Z
LAST-MODIFIED:20251114T161033Z
UID:10001148-1768039200-1768044600@www.aiadallas.org
SUMMARY:Main Street Architecture Walking Tour
DESCRIPTION:
URL:https://www.aiadallas.org/event/main-street-architecture-walking-tour/2026-01-10/
CATEGORIES:AD EX Events,Partner Events
END:VEVENT
BEGIN:VEVENT
DTSTART;TZID=America/Chicago:20260117T100000
DTEND;TZID=America/Chicago:20260117T120000
DTSTAMP:20260423T002244
CREATED:20240213T201518Z
LAST-MODIFIED:20251114T161139Z
UID:10001184-1768644000-1768651200@www.aiadallas.org
SUMMARY:Discover the Arts District Walking Tour
DESCRIPTION:
URL:https://www.aiadallas.org/event/discover-the-arts-district-walking-tour-2/2026-01-17/
CATEGORIES:AD EX Events,Partner Events
END:VEVENT
BEGIN:VEVENT
DTSTART;TZID=America/Chicago:20260121T120000
DTEND;TZID=America/Chicago:20260121T140000
DTSTAMP:20260423T002244
CREATED:20251119T190704Z
LAST-MODIFIED:20251119T190704Z
UID:10001230-1768996800-1769004000@www.aiadallas.org
SUMMARY:Fair Park Tram Tour
DESCRIPTION:Fair Park\, a celebration of art\, architecture\, and industry\, is a cultural and historic gem in the heart of Dallas. Join us for a motorized tour of the park while we fill you in on its amazing past and talk about its exciting future. \nArchitecturally\, Fair Park is one of the world’s largest collections of Art Deco buildings with a unique design approach that Chief Architect George Dahl described as “Texanic.” Integral to the buildings and the grounds are numerous works by renowned artists that celebrate the history and achievements of Texas during the first 100 years of independence. First established for the Dallas State Fair in 1886\, Fair Park was transformed in 1936 for the Texas Centennial Exposition. It is one of Dallas’ greatest cultural assets\, hosting events year-round and exhibitions and serving as home to numerous cultural institutions. In 1986\, it was recognized as a National Historic Landmark. \nIn partnership with Fair Park First\, the Dallas Architecture and Design Exchange presents hour-long lunchtime tram tours on the third Wednesday of the month at several times throughout the year. Tickets are $10 for general admission\, and $5 for students and seniors. \nThe tour begins at noon at the Parry Street entrance gate adjacent to the DART stop. Seats are limited – reserve your seat in advance. \nNOTE: The duration of the tour ranges from 1.5 to 2 hours. There is some walking (1/4 of a mile or less) to allow participants to get up close to some of the artwork. Please note any mobility challenges at the time of registration so that the tour route can be adjusted to accommodate all guests.
URL:https://www.aiadallas.org/event/fair-park-tram-tour-01212026/
LOCATION:Fair Park\, 3600 Parry Avenue\, Dallas\, TX\, 75210
CATEGORIES:AD EX Events,Partner Events
ATTACH;FMTTYPE=image/jpeg:https://www.aiadallas.org/wp-content/uploads/2024/02/JRBrown_IMG_6304-crop-adj-scaled-1.jpg
END:VEVENT
BEGIN:VEVENT
DTSTART;TZID=America/Chicago:20260122T183000
DTEND;TZID=America/Chicago:20260122T200000
DTSTAMP:20260423T002244
CREATED:20260115T160041Z
LAST-MODIFIED:20260115T173456Z
UID:10001440-1769106600-1769112000@www.aiadallas.org
SUMMARY:City Hall and its Future: A Public Conversation
DESCRIPTION:A special program presented by The Dallas Architecture Forum and The Dallas Institute for Humanities and Culture at SMU.\nFREE and open to the public. No reservations required.\nLocated in O’Hara Hall on the 7th Floor of the J. Erik Jonsson Central Library. \nJoin The Forum and The Dallas Institute for an important and extremely time-sensitive program about the importance of Dallas City Hall. Hear from civic leaders including Cullum Clark\, Bob Meckfessel\, and Seemee Ali about why we must save or transform both City Hall and the surrounding plaza. \nAbout the Speakers:\nSeemee Ali\nSeemee Ali\, Ph.D.\, proudly serves as Director of the Dallas Institute of Humanities and Culture at SMU. For more than forty-five years\, the Institute’s “What Makes a City” conferences have convened thoughtful people to consider questions about the soul of the city and its wellbeing. Dr. Ali has earned numerous accolades for her work in the humanities both within and outside academe. She has lived and led study tours in Rome\, Italy\, and has lectured and presented scholarly papers across the United States and abroad – on figures as varied as Toni Morrison\, Mark Rothko\, Salman Rushdie\, W.E.B. DuBois\, Aeschylus\, and Homer. \nCullum Clark\nCullum Clark is Director of the Bush Institute-SMU Economic Growth Initiative and Adjunct Economics Professor at SMU. Cullum’s work focuses on creating prosperous\, high-opportunity cities as a path to improving economic mobility in America and advancing the Bush Institute principle of private markets humanized by compassionate government. He co-authored the book The Texas Triangle: An Emerging Power in the Global Economy. Cullum’s work has appeared in City Journal\, Real Clear Policy\, and numerous other publications\, plus the Freakonomics Radio podcast. He recently published an extensive report on the role of universities and academic medical centers in local and regional economies and is currently working on a report on housing supply and affordability in U.S. cities. \nCullum worked in investments for 25 years\, founding two firms. He serves on the Board of the Texas charter school network Uplift Education and on several foundation and endowment boards. He earned a B.A. in History from Yale\, a Master’s Degree in Political Science from Harvard\, and a Ph.D. in Economics from SMU. \nBob Meckfessel\, FAIA\nRobert Meckfessel brings over 40 years of experience in the planning and design of institutional\, residential\, and commercial projects in North America\, Europe\, and Asia. Many of these projects have been recognized for innovation and excellence in urban design\, architecture\, sustainability\, and preservation from professional and industry organizations\, including AIA Dallas\, the Texas Society of Architects (TxA)\, Docomomo US\, Preservation Dallas\, and Preservation Texas. He has served as President of leading organizations involved with the quality of the built environment\, including Docomomo US\, The Dallas Architecture Forum\, the Trinity Commons Foundation\, AIA Dallas\, and Preservation Dallas. He speaks often at professional conferences\, political forums\, and educational events. \nHe is Founding Principal of DSGN Associates\, recipient of the TxA Architecture Firm Award in 2020\, and AIA Dallas Firm of the Year in 1999 and 2018. In 2007 Meckfessel was elevated to Fellowship in the American Institute of Architects for his service to his profession and community.
URL:https://www.aiadallas.org/event/city-hall-and-its-future-a-public-conversation/
LOCATION:J. Erik Jonsson Central Library\, 1515 Young Street\, Dallas\, TX\, 75201\, United States
CATEGORIES:Partner Events
ATTACH;FMTTYPE=image/jpeg:https://www.aiadallas.org/wp-content/uploads/2026/01/DAF_Dallas-City-Hall.jpg
END:VEVENT
BEGIN:VEVENT
DTSTART;TZID=America/Chicago:20260124T100000
DTEND;TZID=America/Chicago:20260124T113000
DTSTAMP:20260423T002244
CREATED:20240213T201345Z
LAST-MODIFIED:20251114T161052Z
UID:10001160-1769248800-1769254200@www.aiadallas.org
SUMMARY:Main Street Architecture Walking Tour
DESCRIPTION:
URL:https://www.aiadallas.org/event/main-street-architecture-walking-tour-2/2026-01-24/
CATEGORIES:AD EX Events,Partner Events
END:VEVENT
BEGIN:VEVENT
DTSTART;TZID=America/Chicago:20260124T120000
DTEND;TZID=America/Chicago:20260124T140000
DTSTAMP:20260423T002244
CREATED:20251120T172516Z
LAST-MODIFIED:20251120T172516Z
UID:10001251-1769256000-1769263200@www.aiadallas.org
SUMMARY:Build Your City!
DESCRIPTION:
URL:https://www.aiadallas.org/event/build-your-city-03072026/
CATEGORIES:AD EX Events,Partner Events
END:VEVENT
END:VCALENDAR