BEGIN:VCALENDAR
VERSION:2.0
PRODID:-//AIA Dallas - ECPv6.15.11//NONSGML v1.0//EN
CALSCALE:GREGORIAN
METHOD:PUBLISH
X-ORIGINAL-URL:https://www.aiadallas.org
X-WR-CALDESC:Events for AIA Dallas
REFRESH-INTERVAL;VALUE=DURATION:PT1H
X-Robots-Tag:noindex
X-PUBLISHED-TTL:PT1H
BEGIN:VTIMEZONE
TZID:America/Chicago
BEGIN:DAYLIGHT
TZOFFSETFROM:-0600
TZOFFSETTO:-0500
TZNAME:CDT
DTSTART:20250309T080000
END:DAYLIGHT
BEGIN:STANDARD
TZOFFSETFROM:-0500
TZOFFSETTO:-0600
TZNAME:CST
DTSTART:20251102T070000
END:STANDARD
BEGIN:DAYLIGHT
TZOFFSETFROM:-0600
TZOFFSETTO:-0500
TZNAME:CDT
DTSTART:20260308T080000
END:DAYLIGHT
BEGIN:STANDARD
TZOFFSETFROM:-0500
TZOFFSETTO:-0600
TZNAME:CST
DTSTART:20261101T070000
END:STANDARD
BEGIN:DAYLIGHT
TZOFFSETFROM:-0600
TZOFFSETTO:-0500
TZNAME:CDT
DTSTART:20270314T080000
END:DAYLIGHT
BEGIN:STANDARD
TZOFFSETFROM:-0500
TZOFFSETTO:-0600
TZNAME:CST
DTSTART:20271107T070000
END:STANDARD
END:VTIMEZONE
BEGIN:VEVENT
DTSTART;TZID=America/Chicago:20260207T100000
DTEND;TZID=America/Chicago:20260207T120000
DTSTAMP:20260425T175440
CREATED:20240213T201445Z
LAST-MODIFIED:20251114T161128Z
UID:10001173-1770458400-1770465600@www.aiadallas.org
SUMMARY:Discover the Arts District Walking Tour
DESCRIPTION:
URL:https://www.aiadallas.org/event/discover-the-arts-district-walking-tour/2026-02-07/
LOCATION:TX
CATEGORIES:AD EX Events,Partner Events
END:VEVENT
BEGIN:VEVENT
DTSTART;TZID=America/Chicago:20260207T100000
DTEND;TZID=America/Chicago:20260207T120000
DTSTAMP:20260425T175440
CREATED:20251120T172312Z
LAST-MODIFIED:20260122T175348Z
UID:10001250-1770458400-1770465600@www.aiadallas.org
SUMMARY:Brickitecture Family Day
DESCRIPTION:Presented by Blackson Brick\, $35 Per Kit – limited availability \nBring your family and friends to AD EX for a LEGO-themed Family Build Day! Discover the magic of architecture through a hands-on experience where creativity meets design. Participants will build—and take home—a 200-piece micro model of Frank Lloyd Wright’s legendary Fallingwater. \nSet dramatically over a waterfall\, Fallingwater is an iconic masterpiece celebrated for its bold integration of architecture and nature. Its innovative design\, harmony with the surrounding landscape\, and timeless modern vision have inspired generations around the world. \nJoin us for an engaging and educational experience that celebrates the art and science of architecture. Complimentary self-parking is available in the Republic Center Garage\, and light breakfast snacks will be provided.
URL:https://www.aiadallas.org/event/brickitecture-family-day-02072026/
LOCATION:Architecture and Design Exchange\, 325 N. St. Paul Street\, Suite 150\, Dallas\, TX\, 75201\, United States
CATEGORIES:AD EX Events,Partner Events
END:VEVENT
BEGIN:VEVENT
DTSTART;TZID=America/Chicago:20260214T100000
DTEND;TZID=America/Chicago:20260214T113000
DTSTAMP:20260425T175440
CREATED:20240213T201303Z
LAST-MODIFIED:20251114T161033Z
UID:10001149-1771063200-1771068600@www.aiadallas.org
SUMMARY:Main Street Architecture Walking Tour
DESCRIPTION:
URL:https://www.aiadallas.org/event/main-street-architecture-walking-tour/2026-02-14/
LOCATION:TX
CATEGORIES:AD EX Events,Partner Events
END:VEVENT
BEGIN:VEVENT
DTSTART;TZID=America/Chicago:20260218T120000
DTEND;TZID=America/Chicago:20260218T130000
DTSTAMP:20260425T175440
CREATED:20260203T221342Z
LAST-MODIFIED:20260203T221401Z
UID:10001450-1771416000-1771419600@www.aiadallas.org
SUMMARY:AIA 2030 Commitment: Operational Energy
DESCRIPTION:The Texas Society of Architects Committee on the Environment (COTE) is hosting a two-part series focused on integrating the AIA 2030 Commitment into your practice. Just in time for the 2030 reporting deadline at the end of March! Register and learn more here: \nPart 1: Operational Energy February 18 | 12–1 PM CST Meeting Registration – Zoom\nPart 2: Embodied Carbon February 25 | 12–1 PM CST Meeting Registration – Zoom \nBoth sessions are free and include tools\, workflows\, and case studies from 2030 reporting experts. We have a really great line up of folks who will be sharing their experience between the two webinars including: Anica Landreneau with HOK\, Daniel Stine with Lake Flato Architects\, Cory Duggin with TLC Engineering Solutions\, Kjell Anderson with LMN Architects\, Phillip Smith with DLR Group\, Jack Rusk with C.Scale\, and more in the works!
URL:https://www.aiadallas.org/event/aia-2030-commitment-operational-energy/
LOCATION:Virtual
CATEGORIES:Committees + Network Events,Partner Events
END:VEVENT
BEGIN:VEVENT
DTSTART;TZID=America/Chicago:20260218T120000
DTEND;TZID=America/Chicago:20260218T140000
DTSTAMP:20260425T175440
CREATED:20251119T190734Z
LAST-MODIFIED:20251119T190734Z
UID:10001231-1771416000-1771423200@www.aiadallas.org
SUMMARY:Fair Park Tram Tour
DESCRIPTION:Fair Park\, a celebration of art\, architecture\, and industry\, is a cultural and historic gem in the heart of Dallas. Join us for a motorized tour of the park while we fill you in on its amazing past and talk about its exciting future. \nArchitecturally\, Fair Park is one of the world’s largest collections of Art Deco buildings with a unique design approach that Chief Architect George Dahl described as “Texanic.” Integral to the buildings and the grounds are numerous works by renowned artists that celebrate the history and achievements of Texas during the first 100 years of independence. First established for the Dallas State Fair in 1886\, Fair Park was transformed in 1936 for the Texas Centennial Exposition. It is one of Dallas’ greatest cultural assets\, hosting events year-round and exhibitions and serving as home to numerous cultural institutions. In 1986\, it was recognized as a National Historic Landmark. \nIn partnership with Fair Park First\, the Dallas Architecture and Design Exchange presents hour-long lunchtime tram tours on the third Wednesday of the month at several times throughout the year. Tickets are $10 for general admission\, and $5 for students and seniors. \nThe tour begins at noon at the Parry Street entrance gate adjacent to the DART stop. Seats are limited – reserve your seat in advance. \nNOTE: The duration of the tour ranges from 1.5 to 2 hours. There is some walking (1/4 of a mile or less) to allow participants to get up close to some of the artwork. Please note any mobility challenges at the time of registration so that the tour route can be adjusted to accommodate all guests.
URL:https://www.aiadallas.org/event/fair-park-tram-tour-02182026/
LOCATION:Fair Park\, 3600 Parry Avenue\, Dallas\, TX\, 75210
CATEGORIES:AD EX Events,Partner Events
ATTACH;FMTTYPE=image/jpeg:https://www.aiadallas.org/wp-content/uploads/2024/02/JRBrown_IMG_6304-crop-adj-scaled-1.jpg
END:VEVENT
BEGIN:VEVENT
DTSTART;TZID=America/Chicago:20260221T080000
DTEND;TZID=America/Chicago:20260221T100000
DTSTAMP:20260425T175440
CREATED:20251119T162253Z
LAST-MODIFIED:20251119T162253Z
UID:10001221-1771660800-1771668000@www.aiadallas.org
SUMMARY:Form Follows Fitness 5K
DESCRIPTION:The Form Follows Fitness 5K\, sponsored by Blackson Brick and benefiting The Architecture and Design Exchange\, stands out as Dallas’ premier 5K event\, highlighting the city’s iconic architecture. Experience a route through Uptown\, The Arts District\, West End\, and the stunning skyline with award-winning architecture. \nProceeds benefit the Architecture and Design Exchange\, and is presented by Blackson Brick Company\, Inc. Registration includes a stylish short-sleeve dry-fit shirt\, the fourth finisher medal in the Greg Brown Memorial Discover Your City series\, and a not to be missed after-party at Klyde Warren Park with live music\, delectable food samples\, and craft brew from DFW! \nRegister Today
URL:https://www.aiadallas.org/event/form-follows-fitness-5k-2026/
LOCATION:Klyde Warren Park\, 2012 Woodall Rodgers Fwy\, Dallas\, TX\, 75201
CATEGORIES:AD EX Events,AIA Dallas Events,Partner Events
ATTACH;FMTTYPE=image/jpeg:https://www.aiadallas.org/wp-content/uploads/2024/12/FFF5K-feature.jpg
END:VEVENT
BEGIN:VEVENT
DTSTART;TZID=America/Chicago:20260221T100000
DTEND;TZID=America/Chicago:20260221T120000
DTSTAMP:20260425T175440
CREATED:20240213T201518Z
LAST-MODIFIED:20251114T161139Z
UID:10001185-1771668000-1771675200@www.aiadallas.org
SUMMARY:Discover the Arts District Walking Tour
DESCRIPTION:
URL:https://www.aiadallas.org/event/discover-the-arts-district-walking-tour-2/2026-02-21/
LOCATION:TX
CATEGORIES:AD EX Events,Partner Events
END:VEVENT
BEGIN:VEVENT
DTSTART;TZID=America/Chicago:20260225T120000
DTEND;TZID=America/Chicago:20260225T130000
DTSTAMP:20260425T175440
CREATED:20260203T221455Z
LAST-MODIFIED:20260203T221455Z
UID:10001451-1772020800-1772024400@www.aiadallas.org
SUMMARY:AIA 2030 Commitment: Embodied Carbon
DESCRIPTION:The Texas Society of Architects Committee on the Environment (COTE) is hosting a two-part series focused on integrating the AIA 2030 Commitment into your practice. Just in time for the 2030 reporting deadline at the end of March! Register and learn more here: \nPart 1: Operational Energy February 18 | 12–1 PM CST Meeting Registration – Zoom\nPart 2: Embodied Carbon February 25 | 12–1 PM CST Meeting Registration – Zoom \nBoth sessions are free and include tools\, workflows\, and case studies from 2030 reporting experts. We have a really great line up of folks who will be sharing their experience between the two webinars including: Anica Landreneau with HOK\, Daniel Stine with Lake Flato Architects\, Cory Duggin with TLC Engineering Solutions\, Kjell Anderson with LMN Architects\, Phillip Smith with DLR Group\, Jack Rusk with C.Scale\, and more in the works!
URL:https://www.aiadallas.org/event/aia-2030-commitment-embodied-carbon/
LOCATION:Virtual
CATEGORIES:Committees + Network Events,Partner Events
END:VEVENT
BEGIN:VEVENT
DTSTART;TZID=America/Chicago:20260228T100000
DTEND;TZID=America/Chicago:20260228T113000
DTSTAMP:20260425T175440
CREATED:20240213T201345Z
LAST-MODIFIED:20251114T161052Z
UID:10001161-1772272800-1772278200@www.aiadallas.org
SUMMARY:Main Street Architecture Walking Tour
DESCRIPTION:
URL:https://www.aiadallas.org/event/main-street-architecture-walking-tour-2/2026-02-28/
LOCATION:TX
CATEGORIES:AD EX Events,Partner Events
END:VEVENT
END:VCALENDAR