BEGIN:VCALENDAR
VERSION:2.0
PRODID:-//AIA Dallas - ECPv6.15.11//NONSGML v1.0//EN
CALSCALE:GREGORIAN
METHOD:PUBLISH
X-ORIGINAL-URL:https://www.aiadallas.org
X-WR-CALDESC:Events for AIA Dallas
REFRESH-INTERVAL;VALUE=DURATION:PT1H
X-Robots-Tag:noindex
X-PUBLISHED-TTL:PT1H
BEGIN:VTIMEZONE
TZID:America/Chicago
BEGIN:DAYLIGHT
TZOFFSETFROM:-0600
TZOFFSETTO:-0500
TZNAME:CDT
DTSTART:20250309T080000
END:DAYLIGHT
BEGIN:STANDARD
TZOFFSETFROM:-0500
TZOFFSETTO:-0600
TZNAME:CST
DTSTART:20251102T070000
END:STANDARD
BEGIN:DAYLIGHT
TZOFFSETFROM:-0600
TZOFFSETTO:-0500
TZNAME:CDT
DTSTART:20260308T080000
END:DAYLIGHT
BEGIN:STANDARD
TZOFFSETFROM:-0500
TZOFFSETTO:-0600
TZNAME:CST
DTSTART:20261101T070000
END:STANDARD
BEGIN:DAYLIGHT
TZOFFSETFROM:-0600
TZOFFSETTO:-0500
TZNAME:CDT
DTSTART:20270314T080000
END:DAYLIGHT
BEGIN:STANDARD
TZOFFSETFROM:-0500
TZOFFSETTO:-0600
TZNAME:CST
DTSTART:20271107T070000
END:STANDARD
END:VTIMEZONE
BEGIN:VEVENT
DTSTART;TZID=America/Chicago:20260305T180000
DTEND;TZID=America/Chicago:20260305T193000
DTSTAMP:20260425T162117
CREATED:20260107T234940Z
LAST-MODIFIED:20260305T191051Z
UID:10001439-1772733600-1772739000@www.aiadallas.org
SUMMARY:Missing Middle Housing: Thinking Big and Building Small to Respond to the Housing Crisis
DESCRIPTION:About this Event \nJoin the Dallas Housing Coalition for an enlightening presentation by Daniel Parolek\, urban designer\, architect\, and author of Missing Middle Housing: Thinking Big and Building Small to Respond to Today’s Housing Crisis. Parolek will break down the housing challenges facing communities nationwide and introduce the concept of Missing Middle Housing—what it is\, why it matters\, and how it can help create walkable\, attainable\, and community-centered neighborhoods. Attendees will learn practical steps for enabling these housing types through planning and zoning reforms\, along with real-world examples from cities and developers from across the country that have successfully put these ideas into action at the building to regional scales with thoughtful design\, planning\, and zoning reform. \n\nSchedule \n5:00 PM – 6:00 PM: Check-in & Networking Reception\n6:00 PM – 7:00 PM: Missing Middle Housing Presentation by Daniel Parolek\n7:00 PM – 7:30 PM: Audience Q&A \n\nAbout This Presentation \nThis presentation by Daniel Parolek\, urban designer\, architect\, and author of Missing Middle Housing: Thinking Big and Building Small to Respond to Today’s Housing Crisis\, will break down the housing challenges facing communities nationwide and introduce the concept of Missing Middle Housing – what it is\, why it matters\, and how it can help create walkable\, attainable\, and community-centered neighborhoods. Attendees will learn practical steps for enabling these housing types through planning and zoning reforms\, along with real-world examples from cities and developers from across the country that have successfully put these ideas into action at the building to regional scales with thoughtful design\, planning\, and zoning reform. \nLearning Objectives: \n\nParticipants will discuss the current state of missing middle housing across the country: What is being built and by whom\, and what is still “missing.”\nParticipants will learn techniques for effectively creating policy\, plans\, and zoning for these types in infill and greenfield applications.\nParticipants will explore how residential and commercial building codes apply to these types and how they are limiting the delivery\, and changes that are being made to remove this barrier.\nParticipants will discuss how AARP and Opticos Design are advocating for these housing choices for age-friendly living through their technical advisory work across the country.\n\n1.5 LU | HSW
URL:https://www.aiadallas.org/event/missing-middle-housing-thinking-big-and-building-small-to-respond-to-the-housing-crisis/
LOCATION:Latino Cultural Center\, 2600 Live Oak Street\, Dallas\, TX\, 75204\, United States
CATEGORIES:Partner Events
END:VEVENT
BEGIN:VEVENT
DTSTART;TZID=America/Chicago:20260307T100000
DTEND;TZID=America/Chicago:20260307T120000
DTSTAMP:20260425T162117
CREATED:20240213T201445Z
LAST-MODIFIED:20251114T161128Z
UID:10001174-1772877600-1772884800@www.aiadallas.org
SUMMARY:Discover the Arts District Walking Tour
DESCRIPTION:
URL:https://www.aiadallas.org/event/discover-the-arts-district-walking-tour/2026-03-07/
LOCATION:TX
CATEGORIES:AD EX Events,Partner Events
END:VEVENT
BEGIN:VEVENT
DTSTART;TZID=America/Chicago:20260314T100000
DTEND;TZID=America/Chicago:20260314T113000
DTSTAMP:20260425T162117
CREATED:20240213T201303Z
LAST-MODIFIED:20251114T161033Z
UID:10001150-1773482400-1773487800@www.aiadallas.org
SUMMARY:Main Street Architecture Walking Tour
DESCRIPTION:
URL:https://www.aiadallas.org/event/main-street-architecture-walking-tour/2026-03-14/
LOCATION:TX
CATEGORIES:AD EX Events,Partner Events
END:VEVENT
BEGIN:VEVENT
DTSTART;TZID=America/Chicago:20260318T120000
DTEND;TZID=America/Chicago:20260318T140000
DTSTAMP:20260425T162117
CREATED:20251119T190759Z
LAST-MODIFIED:20251119T190759Z
UID:10001232-1773835200-1773842400@www.aiadallas.org
SUMMARY:Fair Park Tram Tour
DESCRIPTION:Fair Park\, a celebration of art\, architecture\, and industry\, is a cultural and historic gem in the heart of Dallas. Join us for a motorized tour of the park while we fill you in on its amazing past and talk about its exciting future. \nArchitecturally\, Fair Park is one of the world’s largest collections of Art Deco buildings with a unique design approach that Chief Architect George Dahl described as “Texanic.” Integral to the buildings and the grounds are numerous works by renowned artists that celebrate the history and achievements of Texas during the first 100 years of independence. First established for the Dallas State Fair in 1886\, Fair Park was transformed in 1936 for the Texas Centennial Exposition. It is one of Dallas’ greatest cultural assets\, hosting events year-round and exhibitions and serving as home to numerous cultural institutions. In 1986\, it was recognized as a National Historic Landmark. \nIn partnership with Fair Park First\, the Dallas Architecture and Design Exchange presents hour-long lunchtime tram tours on the third Wednesday of the month at several times throughout the year. Tickets are $10 for general admission\, and $5 for students and seniors. \nThe tour begins at noon at the Parry Street entrance gate adjacent to the DART stop. Seats are limited – reserve your seat in advance. \nNOTE: The duration of the tour ranges from 1.5 to 2 hours. There is some walking (1/4 of a mile or less) to allow participants to get up close to some of the artwork. Please note any mobility challenges at the time of registration so that the tour route can be adjusted to accommodate all guests.
URL:https://www.aiadallas.org/event/fair-park-tram-tour-03182026/
LOCATION:Fair Park\, 3600 Parry Avenue\, Dallas\, TX\, 75210
CATEGORIES:AD EX Events,Partner Events
ATTACH;FMTTYPE=image/jpeg:https://www.aiadallas.org/wp-content/uploads/2024/02/JRBrown_IMG_6304-crop-adj-scaled-1.jpg
END:VEVENT
BEGIN:VEVENT
DTSTART;TZID=America/Chicago:20260321T100000
DTEND;TZID=America/Chicago:20260321T120000
DTSTAMP:20260425T162117
CREATED:20240213T201518Z
LAST-MODIFIED:20251114T161139Z
UID:10001186-1774087200-1774094400@www.aiadallas.org
SUMMARY:Discover the Arts District Walking Tour
DESCRIPTION:
URL:https://www.aiadallas.org/event/discover-the-arts-district-walking-tour-2/2026-03-21/
LOCATION:TX
CATEGORIES:AD EX Events,Partner Events
END:VEVENT
BEGIN:VEVENT
DTSTART;TZID=America/Chicago:20260328T100000
DTEND;TZID=America/Chicago:20260328T113000
DTSTAMP:20260425T162117
CREATED:20240213T201345Z
LAST-MODIFIED:20251114T161052Z
UID:10001162-1774692000-1774697400@www.aiadallas.org
SUMMARY:Main Street Architecture Walking Tour
DESCRIPTION:
URL:https://www.aiadallas.org/event/main-street-architecture-walking-tour-2/2026-03-28/
LOCATION:TX
CATEGORIES:AD EX Events,Partner Events
END:VEVENT
END:VCALENDAR