BEGIN:VCALENDAR
VERSION:2.0
PRODID:-//AIA Dallas - ECPv6.15.11//NONSGML v1.0//EN
CALSCALE:GREGORIAN
METHOD:PUBLISH
X-WR-CALNAME:AIA Dallas
X-ORIGINAL-URL:https://www.aiadallas.org
X-WR-CALDESC:Events for AIA Dallas
REFRESH-INTERVAL;VALUE=DURATION:PT1H
X-Robots-Tag:noindex
X-PUBLISHED-TTL:PT1H
BEGIN:VTIMEZONE
TZID:America/Chicago
BEGIN:DAYLIGHT
TZOFFSETFROM:-0600
TZOFFSETTO:-0500
TZNAME:CDT
DTSTART:20250309T080000
END:DAYLIGHT
BEGIN:STANDARD
TZOFFSETFROM:-0500
TZOFFSETTO:-0600
TZNAME:CST
DTSTART:20251102T070000
END:STANDARD
BEGIN:DAYLIGHT
TZOFFSETFROM:-0600
TZOFFSETTO:-0500
TZNAME:CDT
DTSTART:20260308T080000
END:DAYLIGHT
BEGIN:STANDARD
TZOFFSETFROM:-0500
TZOFFSETTO:-0600
TZNAME:CST
DTSTART:20261101T070000
END:STANDARD
BEGIN:DAYLIGHT
TZOFFSETFROM:-0600
TZOFFSETTO:-0500
TZNAME:CDT
DTSTART:20270314T080000
END:DAYLIGHT
BEGIN:STANDARD
TZOFFSETFROM:-0500
TZOFFSETTO:-0600
TZNAME:CST
DTSTART:20271107T070000
END:STANDARD
END:VTIMEZONE
BEGIN:VEVENT
DTSTART;TZID=America/Chicago:20260514T160000
DTEND;TZID=America/Chicago:20260514T170000
DTSTAMP:20260422T010708
CREATED:20260303T224527Z
LAST-MODIFIED:20260401T161400Z
UID:10001466-1778774400-1778778000@www.aiadallas.org
SUMMARY:Technology in Architectural Practice Committee Meeting
DESCRIPTION:
URL:https://www.aiadallas.org/event/technology-in-architectural-practice-committee-meeting-05142026/
LOCATION:Architecture and Design Exchange\, 325 N. St. Paul Street\, Suite 150\, Dallas\, TX\, 75201\, United States
CATEGORIES:Committees + Network Events
END:VEVENT
BEGIN:VEVENT
DTSTART;TZID=America/Chicago:20260611T160000
DTEND;TZID=America/Chicago:20260611T170000
DTSTAMP:20260422T010708
CREATED:20260303T224608Z
LAST-MODIFIED:20260401T161524Z
UID:10001468-1781193600-1781197200@www.aiadallas.org
SUMMARY:TAP Talk Session
DESCRIPTION:
URL:https://www.aiadallas.org/event/technology-in-architectural-practice-committee-meeting-06112026/
LOCATION:Architecture and Design Exchange\, 325 N. St. Paul Street\, Suite 150\, Dallas\, TX\, 75201\, United States
CATEGORIES:Committees + Network Events
END:VEVENT
BEGIN:VEVENT
DTSTART;TZID=America/Chicago:20260709T160000
DTEND;TZID=America/Chicago:20260709T170000
DTSTAMP:20260422T010708
CREATED:20260303T224645Z
LAST-MODIFIED:20260401T161606Z
UID:10001469-1783612800-1783616400@www.aiadallas.org
SUMMARY:Technology in Architectural Practice Committee Meeting
DESCRIPTION:
URL:https://www.aiadallas.org/event/technology-in-architectural-practice-committee-meeting-07092026/
LOCATION:Architecture and Design Exchange\, 325 N. St. Paul Street\, Suite 150\, Dallas\, TX\, 75201\, United States
CATEGORIES:Committees + Network Events
END:VEVENT
BEGIN:VEVENT
DTSTART;TZID=America/Chicago:20260723T160000
DTEND;TZID=America/Chicago:20260723T170000
DTSTAMP:20260422T010708
CREATED:20260331T023819Z
LAST-MODIFIED:20260401T162219Z
UID:10001478-1784822400-1784826000@www.aiadallas.org
SUMMARY:TAP Talk Session
DESCRIPTION:
URL:https://www.aiadallas.org/event/tap-talk-session/
LOCATION:Architecture and Design Exchange\, 325 N. St. Paul Street\, Suite 150\, Dallas\, TX\, 75201\, United States
CATEGORIES:Committees + Network Events
END:VEVENT
BEGIN:VEVENT
DTSTART;TZID=America/Chicago:20260813T160000
DTEND;TZID=America/Chicago:20260813T170000
DTSTAMP:20260422T010708
CREATED:20260303T224659Z
LAST-MODIFIED:20260303T224659Z
UID:10001470-1786636800-1786640400@www.aiadallas.org
SUMMARY:Technology in Architectural Practice Committee Meeting
DESCRIPTION:
URL:https://www.aiadallas.org/event/technology-in-architectural-practice-committee-meeting-08132026/
LOCATION:Architecture and Design Exchange\, 325 N. St. Paul Street\, Suite 150\, Dallas\, TX\, 75201\, United States
CATEGORIES:Committees + Network Events
END:VEVENT
BEGIN:VEVENT
DTSTART;TZID=America/Chicago:20260825T160000
DTEND;TZID=America/Chicago:20260825T170000
DTSTAMP:20260422T010708
CREATED:20260331T024030Z
LAST-MODIFIED:20260331T024030Z
UID:10001479-1787673600-1787677200@www.aiadallas.org
SUMMARY:TAP Talk Session
DESCRIPTION:
URL:https://www.aiadallas.org/event/tap-talk-session-2/
LOCATION:Architecture and Design Exchange\, 325 N. St. Paul Street\, Suite 150\, Dallas\, TX\, 75201\, United States
CATEGORIES:Committees + Network Events
END:VEVENT
BEGIN:VEVENT
DTSTART;TZID=America/Chicago:20260910T160000
DTEND;TZID=America/Chicago:20260910T170000
DTSTAMP:20260422T010708
CREATED:20260303T224717Z
LAST-MODIFIED:20260303T224717Z
UID:10001471-1789056000-1789059600@www.aiadallas.org
SUMMARY:Technology in Architectural Practice Committee Meeting
DESCRIPTION:
URL:https://www.aiadallas.org/event/technology-in-architectural-practice-committee-meeting-09102026/
LOCATION:Architecture and Design Exchange\, 325 N. St. Paul Street\, Suite 150\, Dallas\, TX\, 75201\, United States
CATEGORIES:Committees + Network Events
END:VEVENT
BEGIN:VEVENT
DTSTART;TZID=America/Chicago:20261008T160000
DTEND;TZID=America/Chicago:20261008T170000
DTSTAMP:20260422T010708
CREATED:20260303T224732Z
LAST-MODIFIED:20260303T224732Z
UID:10001472-1791475200-1791478800@www.aiadallas.org
SUMMARY:Technology in Architectural Practice Committee Meeting
DESCRIPTION:
URL:https://www.aiadallas.org/event/technology-in-architectural-practice-committee-meeting-10082026/
LOCATION:Architecture and Design Exchange\, 325 N. St. Paul Street\, Suite 150\, Dallas\, TX\, 75201\, United States
CATEGORIES:Committees + Network Events
END:VEVENT
BEGIN:VEVENT
DTSTART;TZID=America/Chicago:20261112T160000
DTEND;TZID=America/Chicago:20261112T170000
DTSTAMP:20260422T010708
CREATED:20260303T224747Z
LAST-MODIFIED:20260303T224747Z
UID:10001473-1794499200-1794502800@www.aiadallas.org
SUMMARY:Technology in Architectural Practice Committee Meeting
DESCRIPTION:
URL:https://www.aiadallas.org/event/technology-in-architectural-practice-committee-meeting-11122026/
LOCATION:Architecture and Design Exchange\, 325 N. St. Paul Street\, Suite 150\, Dallas\, TX\, 75201\, United States
CATEGORIES:Committees + Network Events
END:VEVENT
BEGIN:VEVENT
DTSTART;TZID=America/Chicago:20261112T160000
DTEND;TZID=America/Chicago:20261112T170000
DTSTAMP:20260422T010708
CREATED:20260331T024300Z
LAST-MODIFIED:20260331T024300Z
UID:10001480-1794499200-1794502800@www.aiadallas.org
SUMMARY:TAP Talk Session
DESCRIPTION:
URL:https://www.aiadallas.org/event/tap-talk-session-3/
LOCATION:Architecture and Design Exchange\, 325 N. St. Paul Street\, Suite 150\, Dallas\, TX\, 75201\, United States
CATEGORIES:Committees + Network Events
END:VEVENT
BEGIN:VEVENT
DTSTART;TZID=America/Chicago:20261210T160000
DTEND;TZID=America/Chicago:20261210T170000
DTSTAMP:20260422T010708
CREATED:20260303T224808Z
LAST-MODIFIED:20260303T224808Z
UID:10001474-1796918400-1796922000@www.aiadallas.org
SUMMARY:Technology in Architectural Practice Committee Meeting
DESCRIPTION:
URL:https://www.aiadallas.org/event/technology-in-architectural-practice-committee-meeting-12102026/
LOCATION:Architecture and Design Exchange\, 325 N. St. Paul Street\, Suite 150\, Dallas\, TX\, 75201\, United States
CATEGORIES:Committees + Network Events
END:VEVENT
END:VCALENDAR